Workbook

Sheet 総括表
B1: 平成28年度 財政状況資料集
B2: 総括表（市町村）
B3: 都道府県名 | L3: 高知県 | W3: 市町村類型 | AC3: Ⅰ－０ | AM3: 指定団体等の指定状況 | AY3: 区分 | BN3: 平成28年度(千円) | BV3: 平成27年度(千円) | CD3: 区分 | CT3: 平成28年度(千円･％) | DB3: 平成27年度(千円･％)
AY4: 歳入総額 | BN4: 8242591 | BV4: 5229440 | CD4: 実質収支比率 | CT4: 3.5 | DB4: 2.7
AM5: 財政健全化等 | AU5: × | AY5: 歳出総額 | BN5: 7544480 | BV5: 4686502 | CD5: 経常収支比率 | CT5: 80.4 | DB5: 76.7
B6: 市町村名 | L6: 奈半利町 | W6: 地方交付税種地 | AC6: 2-1 | AM6: 財源超過 | AU6: × | AY6: 歳入歳出差引 | BN6: 698111 | BV6: 542938 | CD6: (※1) | CT6: 83.6 | DB6: 80.5
AM7: 首都 | AU7: × | AY7: 翌年度に繰越すべき財源 | BN7: 640159 | BV7: 496365 | CD7: 標準財政規模 | CT7: 1653181 | DB7: 1718373
AM8: 近畿 | AU8: × | AY8: 実質収支 | BN8: 57952 | BV8: 46573 | CD8: 財政力指数 | CT8: 0.18 | DB8: 0.18
B9: 人口 | L9: 27年国調(人) | R9: 3326 | W9: 産業構造 (※5) | AM9: 中部 | AU9: × | AY9: 単年度収支 | BN9: 11379 | BV9: 9840 | CD9: 公債費負担比率 | CT9: 11.2 | DB9: 14
L10: 22年国調(人) | R10: 3542 | AM10: 過疎 | AU10: ○ | AY10: 積立金 | BN10: 152012 | BV10: 8658 | CD10: 健全化判断比率
L11: 増減率 (％) | R11: -6.1 | AM11: 山振 | AU11: × | AY11: 繰上償還金 | BN11: 65616 | BV11: 94430 | CD11: 実質赤字比率 | CT11: - | DB11: -
B12: 住民基本台帳人口 (※7) | L12: 29.01.01(人) | R12: 3359 | W12: 区分 | AC12: 27年国調 | AH12: 22年国調 | AM12: 低開発 | AU12: × | AY12: 積立金取崩し額 | BN12: - | BV12: 425793 | CD12: 連結実質赤字比率 | CT12: - | DB12: -
M13: うち日本人(人) | R13: 3349 | W13: 第1次 | AC13: 261 | AH13: 282 | AM13: 指数表選定 | AU13: × | AY13: 実質単年度収支 | BN13: 229007 | BV13: -312865 | CD13: 実質公債費比率 | CT13: -2.2 | DB13: 0.6
L14: 28.01.01(人) | R14: 3386 | AC14: 19 | AH14: 19.6 | CD14: 将来負担比率 | CT14: - | DB14: -
M15: うち日本人(人) | R15: 3377 | W15: 第2次 | AC15: 238 | AH15: 255 | AY15: 基準財政収入額 | BN15: 294766 | BV15: 284075 | CD15: 資金不足比率 (※4)
L16: 増減率 (％) | R16: -0.8 | AC16: 17.3 | AH16: 17.7 | AY16: 基準財政需要額 | BN16: 1517782 | BV16: 1564722
M17: うち日本人(％) | R17: -0.8 | W17: 第3次 | AC17: 876 | AH17: 902 | AY17: 標準税収入額等 | BN17: 370004 | BV17: 355603
B18: 面積 (k㎡) | L18: 28.36 | AC18: 63.7 | AH18: 62.7 | AY18: 経常経費充当一般財源等 | BN18: 1325603 | BV18: 1324896
B19: 人口密度 (人/k㎡) | L19: 117 | AY19: 歳入一般財源等 | BN19: 2577459 | BV19: 2414901
B20: 世帯数 (世帯) | L20: 1474
B21: 職員の状況
B22: 特別職等 | E22: 区分 | L22: 定数 | Q22: 1人あたり平均 給料月額(百円) | W22: 一般職員等(※6) | Z22: 区分 | AH22: 職員数 (人) | AM22: 給料月額 (百円) | AS22: 1人あたり平均 給料月額(百円)
AY23: 地方債現在高 | BN23: 3070018 | BV23: 2514179
E24: 市区町村長 | L24: 1 | Q24: 7030 | Z24: 一般職員 | AH24: 51 | AM24: 147747 | AS24: 2897 | AY24: うち公的資金 | BN24: 2736784 | BV24: 2074128
E25: 副市区町村長 | L25: 1 | Q25: 6130 | Z25: うち消防職員 | AH25: - | AM25: - | AS25: - | AY25: 債務負担行為額（支出予定額） | BN25: 8122 | BV25: 60987
E26: 教育長 | L26: 1 | Q26: 5620 | Z26: うち技能労務職員 | AH26: 4 | AM26: 12252 | AS26: 3063 | AY26: 収益事業収入 | BN26: - | BV26: -
E27: 議会議長 | L27: 1 | Q27: 2330 | Z27: 教育公務員 | AH27: 4 | AM27: 13468 | AS27: 3367 | AY27: 土地開発基金現在高 | BN27: 436934 | BV27: 436163
E28: 議会副議長 | L28: 1 | Q28: 1900 | Z28: 臨時職員 | AH28: - | AM28: - | AS28: - | AY28: 積立金 現在高 | BC28: 財政調整基金 | BN28: 656777 | BV28: 504765
E29: 議会議員 | L29: 8 | Q29: 1640 | Z29: 合計 | AH29: 55 | AM29: 161215 | AS29: 2931 | BC29: 減債基金 | BN29: 436004 | BV29: 377583
W30: ラスパイレス指数 | AH30: 98.4 | BC30: その他特定目的基金 | BN30: 2896049 | BV30: 2756695
C32: 一般会計等の一覧 | U32: 事業会計の一覧 | AM32: 公営企業（法適）の一覧 | BE32: 公営企業（法非適）の一覧 | BW32: 関係する一部事務組合等一覧 | CO32: 地方公社・第三セクター等一覧
C33: 項番 | E33: 会計名 | U33: 項番 | W33: 会計名 | AM33: 項番 | AO33: 会計名 | BE33: 項番 | BG33: 会計名 | BW33: 項番 | BY33: 組合等名 | CO33: 項番 | CQ33: 団体名 | DG33: (※3)
C34: =IF(E34="","",1) -> 1 | E34: =IF('各会計、関係団体の財政状況及び健全化判断比率'!B7="","",'各会計、関係団体の財政状況及び健全化判断比率'!B7) -> 一般会計 | U34: =IF(W34="","",MAX(C34:D43)+1) -> 2 | W34: =IF('各会計、関係団体の財政状況及び健全化判断比率'!B28="","",'各会計、関係団体の財政状況及び健全化判断比率'!B28) -> 国民健康保険事業特別会計 | AM34: =IF(AO34="","",MAX(C34:D43,U34:V43)+1) | BE34: =IF(BG34="","",MAX(C34:D43,U34:V43,AM34:AN43)+1) -> 4 | BG34: =IF('各会計、関係団体の財政状況及び健全化判断比率'!B30="","",'各会計、関係団体の財政状況及び健全化判断比率'!B30) -> 簡易水道事業特別会計 | BW34: =IF(BY34="","",MAX(C34:D43,U34:V43,AM34:AN43,BE34:BF43)+1) -> 6 | BY34: =IF('各会計、関係団体の財政状況及び健全化判断比率'!B68="","",'各会計、関係団体の財政状況及び健全化判断比率'!B68) -> 安芸広域市町村圏特別養護老人ホーム事務組合 | CO34: =IF(CQ34="","",MAX(C34:D43,U34:V43,AM34:AN43,BE34:BF43,BW34:BX43)+1) -> 16 | CQ34: =IF('各会計、関係団体の財政状況及び健全化判断比率'!BS7="","",'各会計、関係団体の財政状況及び健全化判断比率'!BS7) -> 中芸介護公社 | DG34: =IF('各会計、関係団体の財政状況及び健全化判断比率'!BR7="","",'各会計、関係団体の財政状況及び健全化判断比率'!BR7)
C35: =IF(E35="","",C34+1) | E35: =IF('各会計、関係団体の財政状況及び健全化判断比率'!B8="","",'各会計、関係団体の財政状況及び健全化判断比率'!B8) | U35: =IF(W35="","",U34+1) -> 3 | W35: =IF('各会計、関係団体の財政状況及び健全化判断比率'!B29="","",'各会計、関係団体の財政状況及び健全化判断比率'!B29) -> 後期高齢者医療特別会計 | AM35: =IF(AO35="","",AM34+1) | BE35: =IF(BG35="","",BE34+1) -> 5 | BG35: =IF('各会計、関係団体の財政状況及び健全化判断比率'!B31="","",'各会計、関係団体の財政状況及び健全化判断比率'!B31) -> 漁業集落排水事業特別会計 | BW35: =IF(BY35="","",BW34+1) -> 7 | BY35: =IF('各会計、関係団体の財政状況及び健全化判断比率'!B69="","",'各会計、関係団体の財政状況及び健全化判断比率'!B69) -> 高知県広域食肉センター事務組合 | CO35: =IF(CQ35="","",CO34+1) -> 17 | CQ35: =IF('各会計、関係団体の財政状況及び健全化判断比率'!BS8="","",'各会計、関係団体の財政状況及び健全化判断比率'!BS8) -> なはり観光文化協会 | DG35: =IF('各会計、関係団体の財政状況及び健全化判断比率'!BR8="","",'各会計、関係団体の財政状況及び健全化判断比率'!BR8)
C36: =IF(E36="","",C35+1) | E36: =IF('各会計、関係団体の財政状況及び健全化判断比率'!B9="","",'各会計、関係団体の財政状況及び健全化判断比率'!B9) | U36: =IF(W36="","",U35+1) | AM36: =IF(AO36="","",AM35+1) | BE36: =IF(BG36="","",BE35+1) | BW36: =IF(BY36="","",BW35+1) -> 8 | BY36: =IF('各会計、関係団体の財政状況及び健全化判断比率'!B70="","",'各会計、関係団体の財政状況及び健全化判断比率'!B70) -> 安芸広域市町村圏事務組合 | CO36: =IF(CQ36="","",CO35+1) -> 18 | CQ36: =IF('各会計、関係団体の財政状況及び健全化判断比率'!BS9="","",'各会計、関係団体の財政状況及び健全化判断比率'!BS9) -> なはりの郷 | DG36: =IF('各会計、関係団体の財政状況及び健全化判断比率'!BR9="","",'各会計、関係団体の財政状況及び健全化判断比率'!BR9)
C37: =IF(E37="","",C36+1) | E37: =IF('各会計、関係団体の財政状況及び健全化判断比率'!B10="","",'各会計、関係団体の財政状況及び健全化判断比率'!B10) | U37: =IF(W37="","",U36+1) | AM37: =IF(AO37="","",AM36+1) | BE37: =IF(BG37="","",BE36+1) | BW37: =IF(BY37="","",BW36+1) -> 9 | BY37: =IF('各会計、関係団体の財政状況及び健全化判断比率'!B71="","",'各会計、関係団体の財政状況及び健全化判断比率'!B71) -> 安芸広域市町村圏事務組合（滞納整理事務特別会計） | CO37: =IF(CQ37="","",CO36+1) | CQ37: =IF('各会計、関係団体の財政状況及び健全化判断比率'!BS10="","",'各会計、関係団体の財政状況及び健全化判断比率'!BS10) | DG37: =IF('各会計、関係団体の財政状況及び健全化判断比率'!BR10="","",'各会計、関係団体の財政状況及び健全化判断比率'!BR10)
C38: =IF(E38="","",C37+1) | E38: =IF('各会計、関係団体の財政状況及び健全化判断比率'!B11="","",'各会計、関係団体の財政状況及び健全化判断比率'!B11) | U38: =IF(W38="","",U37+1) | AM38: =IF(AO38="","",AM37+1) | BE38: =IF(BG38="","",BE37+1) | BW38: =IF(BY38="","",BW37+1) -> 10 | BY38: =IF('各会計、関係団体の財政状況及び健全化判断比率'!B72="","",'各会計、関係団体の財政状況及び健全化判断比率'!B72) -> 中芸広域連合 | CO38: =IF(CQ38="","",CO37+1) | CQ38: =IF('各会計、関係団体の財政状況及び健全化判断比率'!BS11="","",'各会計、関係団体の財政状況及び健全化判断比率'!BS11) | DG38: =IF('各会計、関係団体の財政状況及び健全化判断比率'!BR11="","",'各会計、関係団体の財政状況及び健全化判断比率'!BR11)
C39: =IF(E39="","",C38+1) | E39: =IF('各会計、関係団体の財政状況及び健全化判断比率'!B12="","",'各会計、関係団体の財政状況及び健全化判断比率'!B12) | U39: =IF(W39="","",U38+1) | AM39: =IF(AO39="","",AM38+1) | BE39: =IF(BG39="","",BE38+1) | BW39: =IF(BY39="","",BW38+1) -> 11 | BY39: =IF('各会計、関係団体の財政状況及び健全化判断比率'!B73="","",'各会計、関係団体の財政状況及び健全化判断比率'!B73) -> 中芸広域連合（介護保険事業特別会計） | CO39: =IF(CQ39="","",CO38+1) | CQ39: =IF('各会計、関係団体の財政状況及び健全化判断比率'!BS12="","",'各会計、関係団体の財政状況及び健全化判断比率'!BS12) | DG39: =IF('各会計、関係団体の財政状況及び健全化判断比率'!BR12="","",'各会計、関係団体の財政状況及び健全化判断比率'!BR12)
C40: =IF(E40="","",C39+1) | E40: =IF('各会計、関係団体の財政状況及び健全化判断比率'!B13="","",'各会計、関係団体の財政状況及び健全化判断比率'!B13) | U40: =IF(W40="","",U39+1) | AM40: =IF(AO40="","",AM39+1) | BE40: =IF(BG40="","",BE39+1) | BW40: =IF(BY40="","",BW39+1) -> 12 | BY40: =IF('各会計、関係団体の財政状況及び健全化判断比率'!B74="","",'各会計、関係団体の財政状況及び健全化判断比率'!B74) -> こうち人づくり広域連合 | CO40: =IF(CQ40="","",CO39+1) | CQ40: =IF('各会計、関係団体の財政状況及び健全化判断比率'!BS13="","",'各会計、関係団体の財政状況及び健全化判断比率'!BS13) | DG40: =IF('各会計、関係団体の財政状況及び健全化判断比率'!BR13="","",'各会計、関係団体の財政状況及び健全化判断比率'!BR13)
C41: =IF(E41="","",C40+1) | E41: =IF('各会計、関係団体の財政状況及び健全化判断比率'!B14="","",'各会計、関係団体の財政状況及び健全化判断比率'!B14) | U41: =IF(W41="","",U40+1) | AM41: =IF(AO41="","",AM40+1) | BE41: =IF(BG41="","",BE40+1) | BW41: =IF(BY41="","",BW40+1) -> 13 | BY41: =IF('各会計、関係団体の財政状況及び健全化判断比率'!B75="","",'各会計、関係団体の財政状況及び健全化判断比率'!B75) -> 高知県市町村総合事務組合 | CO41: =IF(CQ41="","",CO40+1) | CQ41: =IF('各会計、関係団体の財政状況及び健全化判断比率'!BS14="","",'各会計、関係団体の財政状況及び健全化判断比率'!BS14) | DG41: =IF('各会計、関係団体の財政状況及び健全化判断比率'!BR14="","",'各会計、関係団体の財政状況及び健全化判断比率'!BR14)
...

Sheet 普通会計の状況
DH1: 平成28年度 | DP1: 高知県奈半利町
B2: (1) 普通会計の状況（市町村）
B3: 歳入の状況（単位 千円・％） | AP3: 地方税の状況（単位 千円・％） | CD3: 歳出の状況（単位 千円・％）
B4: 区分 | R4: 決算額 | Z4: 構成比 | AD4: 経常一般財源等 | AL4: 構成比 | AP4: 区分 | BG4: 収入済額 | BO4: 構成比 | BS4: 超過課税分 | CD4: 目的別歳出の状況（単位 千円・％）
B5: 地方税 | R5: 286620 | Z5: 3.5 | AD5: 286620 | AL5: 18.1 | AP5: 普通税 | BG5: 286620 | BO5: 100 | BS5: - | CD5: 区分 | CR5: 決算額 (A) | CZ5: 構成比 | DD5: (A)のうち普通建設事業費 | DQ5: (A)のうち充当一般財源等
B6: 地方譲与税 | R6: 15934 | Z6: 0.2 | AD6: 15934 | AL6: 1 | AP6: 法定普通税 | BG6: 286620 | BO6: 100 | BS6: - | CD6: 議会費 | CR6: 49479 | CZ6: 0.7 | DD6: - | DQ6: 49479
B7: 利子割交付金 | R7: 704 | Z7: 0 | AD7: 704 | AL7: 0 | AP7: 市町村民税 | BG7: 110636 | BO7: 38.6 | BS7: - | CD7: 総務費 | CR7: 4343789 | CZ7: 57.6 | DD7: 74590 | DQ7: 575466
B8: 配当割交付金 | R8: 717 | Z8: 0 | AD8: 717 | AL8: 0 | AP8: 個人均等割 | BG8: 4547 | BO8: 1.6 | BS8: - | CD8: 民生費 | CR8: 624598 | CZ8: 8.3 | DD8: - | DQ8: 439037
B9: 株式等譲渡所得割交付金 | R9: 424 | Z9: 0 | AD9: 424 | AL9: 0 | AP9: 所得割 | BG9: 86682 | BO9: 30.2 | BS9: - | CD9: 衛生費 | CR9: 195605 | CZ9: 2.6 | DD9: 2989 | DQ9: 135431
B10: 地方消費税交付金 | R10: 55766 | Z10: 0.7 | AD10: 55766 | AL10: 3.5 | AP10: 法人均等割 | BG10: 6147 | BO10: 2.1 | BS10: - | CD10: 労働費 | CR10: - | CZ10: - | DD10: - | DQ10: -
B11: ゴルフ場利用税交付金 | R11: - | Z11: - | AD11: - | AL11: - | AP11: 法人税割 | BG11: 13260 | BO11: 4.6 | BS11: - | CD11: 農林水産業費 | CR11: 186474 | CZ11: 2.5 | DD11: 97110 | DQ11: 64214
B12: 特別地方消費税交付金 | R12: - | Z12: - | AD12: - | AL12: - | AP12: 固定資産税 | BG12: 128245 | BO12: 44.7 | BS12: - | CD12: 商工費 | CR12: 27863 | CZ12: 0.4 | DD12: 3728 | DQ12: 9994
B13: 自動車取得税交付金 | R13: 2179 | Z13: 0 | AD13: 2179 | AL13: 0.1 | AP13: うち純固定資産税 | BG13: 125096 | BO13: 43.6 | BS13: - | CD13: 土木費 | CR13: 334945 | CZ13: 4.4 | DD13: 304681 | DQ13: 28223
B14: 軽油引取税交付金 | R14: - | Z14: - | AD14: - | AL14: - | AP14: 軽自動車税 | BG14: 12464 | BO14: 4.3 | BS14: - | CD14: 消防費 | CR14: 468090 | CZ14: 6.2 | DD14: 312842 | DQ14: 133984
B15: 地方特例交付金 | R15: 710 | Z15: 0 | AD15: 710 | AL15: 0 | AP15: 市町村たばこ税 | BG15: 35275 | BO15: 12.3 | BS15: - | CD15: 教育費 | CR15: 877656 | CZ15: 11.6 | DD15: 701294 | DQ15: 146660
B16: 地方交付税 | R16: 1355768 | Z16: 16.4 | AD16: 1221253 | AL16: 77 | AP16: 鉱産税 | BG16: - | BO16: - | BS16: - | CD16: 災害復旧費 | CR16: 53026 | CZ16: 0.7 | DD16: - | DQ16: 8584
B17: 普通交付税 | R17: 1221253 | Z17: 14.8 | AD17: 1221253 | AL17: 77 | AP17: 特別土地保有税 | BG17: - | BO17: - | BS17: - | CD17: 公債費 | CR17: 382955 | CZ17: 5.1 | DD17: - | DQ17: 288276
B18: 特別交付税 | R18: 134515 | Z18: 1.6 | AD18: - | AL18: - | AP18: 法定外普通税 | BG18: - | BO18: - | BS18: - | CD18: 諸支出金 | CR18: - | CZ18: - | DD18: - | DQ18: -
B19: 震災復興特別交付税 | R19: - | Z19: - | AD19: - | AL19: - | AP19: 目的税 | BG19: - | BO19: - | BS19: - | CD19: 前年度繰上充用金 | CR19: - | CZ19: - | DD19: - | DQ19: -
B20: (一般財源計) | R20: 1718822 | Z20: 20.9 | AD20: 1584307 | AL20: 99.9 | AP20: 法定目的税 | BG20: - | BO20: - | BS20: - | CD20: 歳出合計 | CR20: 7544480 | CZ20: 100 | DD20: 1497234 | DQ20: 1879348
B21: 交通安全対策特別交付金 | R21: - | Z21: - | AD21: - | AL21: - | AP21: 入湯税 | BG21: - | BO21: - | BS21: -
B22: 分担金・負担金 | R22: 71648 | Z22: 0.9 | AD22: - | AL22: - | AP22: 事業所税 | BG22: - | BO22: - | BS22: - | CD22: 性質別歳出の状況（単位 千円・％）
B23: 使用料 | R23: 54085 | Z23: 0.7 | AD23: 516 | AL23: 0 | AP23: 都市計画税 | BG23: - | BO23: - | BS23: - | CD23: 区分 | CR23: 決算額 | CZ23: 構成比 | DD23: 充当一般財源等 | DL23: 経常経費充当一般財源等 | DW23: 経常収支比率
B24: 手数料 | R24: 3510 | Z24: 0 | AD24: - | AL24: - | AP24: 水利地益税等 | BG24: - | BO24: - | BS24: - | CD24: 義務的経費計 | CR24: 930102 | CZ24: 12.3 | DD24: 686296 | DL24: 606951 | DW24: 36.8
B25: 国庫支出金 | R25: 290294 | Z25: 3.5 | AD25: - | AL25: - | AP25: 法定外目的税 | BG25: - | BO25: - | BS25: - | CD25: 人件費 | CR25: 424546 | CZ25: 5.6 | DD25: 350884 | DL25: 337155 | DW25: 20.5
B26: 国有提供交付金(特別区財調交付金) | R26: - | Z26: - | AD26: - | AL26: - | AP26: 旧法による税 | BG26: - | BO26: - | BS26: - | CD26: うち職員給 | CR26: 242186 | CZ26: 3.2 | DD26: 186661 | DL26: - | DW26: -
B27: 都道府県支出金 | R27: 459848 | Z27: 5.6 | AD27: - | AL27: - | AP27: 合計 | BG27: 286620 | BO27: 100 | BS27: - | CD27: 扶助費 | CR27: 122601 | CZ27: 1.6 | DD27: 47136 | DL27: 47136 | DW27: 2.9
B28: 財産収入 | R28: 23019 | Z28: 0.3 | AD28: 1233 | AL28: 0.1 | CD28: 公債費 | CR28: 382955 | CZ28: 5.1 | DD28: 288276 | DL28: 222660 | DW28: 13.5
B29: 寄附金 | R29: 2075488 | Z29: 25.2 | AD29: - | AL29: - | AP29: 区分 | BG29: 平成28年度 | BR29: 平成27年度 | CD29: 内訳 | CF29: 元利償還金 | CR29: 382813 | CZ29: 5.1 | DD29: 288134 | DL29: 222518 | DW29: 13.5
B30: 繰入金 | R30: 2056387 | Z30: 24.9 | AD30: - | AL30: - | AP30: 徴収率 (％) | AT30: 現年 | AX30: 合計 | BG30: 98 | BM30: 94.5 | BR30: 98.5 | BX30: 92.5 | CF30: うち元金 | CR30: 363885 | CZ30: 4.8 | DD30: 273526 | DL30: 207910 | DW30: 12.6
B31: 繰越金 | R31: 542938 | Z31: 6.6 | AD31: - | AL31: - | AU31: ・計 | AX31: 市町村民税 | BG31: 98.5 | BM31: 95.8 | BR31: 98.6 | BX31: 93.5 | CF31: うち利子 | CR31: 18928 | CZ31: 0.3 | DD31: 14608 | DL31: 14608 | DW31: 0.9
B32: 諸収入 | R32: 26828 | Z32: 0.3 | AD32: 400 | AL32: 0 | AX32: 純固定資産税 | BG32: 97.1 | BM32: 92.2 | BR32: 97.9 | BX32: 89.6 | CF32: 一時借入金利子 | CR32: 142 | CZ32: 0 | DD32: 142 | DL32: 142 | DW32: 0
B33: 地方債 | R33: 919724 | Z33: 11.2 | AD33: - | AL33: - | CD33: その他の経費 | CR33: 5064118 | CZ33: 67.1 | DD33: 1082426 | DL33: 718652 | DW33: 43.6
B34: うち減収補塡債(特例分) | R34: - | Z34: - | AD34: - | AL34: - | AQ34: 公営事業等への繰出 | BG34: 国民健康保険事業会計の状況 | CD34: 物件費 | CR34: 736082 | CZ34: 9.8 | DD34: 222282 | DL34: 195819 | DW34: 11.9
B35: うち臨時財政対策債 | R35: 61924 | Z35: 0.8 | AD35: - | AL35: - | AQ35: 合計 | AZ35: 224553 | BG35: 実質収支 | BV35: 31348 | CD35: 維持補修費 | CR35: 29706 | CZ35: 0.4 | DD35: 13743 | DL35: 13743 | DW35: 0.8
B36: 歳入合計 | R36: 8242591 | Z36: 100 | AD36: 1586456 | AL36: 100 | AQ36: 簡易水道 | AZ36: 18337 | BG36: 再差引収支 | BV36: -7558 | CD36: 補助費等 | CR36: 1676331 | CZ36: 22.2 | DD36: 404572 | DL36: 357517 | DW36: 21.7
AQ37: 下水道 | AZ37: 6456 | BG37: 加入世帯数(世帯) | BV37: 621 | CD37: うち一部事務組合負担金 | CR37: 366625 | CZ37: 4.9 | DD37: 332678 | DL37: 311001 | DW37: 18.9
AQ38: 介護サービス | AZ38: 1743 | BG38: 被保険者数(人) | BV38: 1014 | CD38: 繰出金 | CR38: 224553 | CZ38: 3 | DD38: 190354 | DL38: 150013 | DW38: 9.1
AQ39: 上水道 | AZ39: - | BG39: 被保険者 1人当り | BM39: 保険税(料)収入額 | BV39: 75 | CD39: 積立金 | CR39: 2375816 | CZ39: 31.5 | DD39: 249845 | DL39: - | DW39: -
AQ40: 国民健康保険 | AZ40: 82231 | BM40: 国庫支出金 | BV40: 153 | CD40: 投資・出資金・貸付金 | CR40: 21630 | CZ40: 0.3 | DD40: 1630 | DL40: 1560 | DW40: 0.1
...

Sheet 各会計、関係団体の財政状況及び健全化判断比率
A2: (2)各会計、関係団体の財政状況及び健全化判断比率（市町村） | DJ2: 平成28年度 | DQ2: 高知県奈半利町
A4: 一般会計等の財政状況（単位：百万円） | BQ4: 地方公社・第三セクター等の経営状況及び地方公共団体の財政的支援の状況（単位：百万円）
A5: 会計名 | Q5: 歳入 | V5: 歳出 | AA5: 形式収支 | AF5: 実質収支 | AK5: 他会計等 からの 繰入金 | AP5: 地方債 現在高 | AU5: 備考 | BQ5: 地方公社・第三セクター等名 | CH5: 経常損益 | CM5: 純資産又は 正味財産 | CR5: 当該団体 からの 出資金 | CW5: 当該団体 からの 補助金 | DB5: 当該団体 からの 貸付金 | DG5: 当該団体からの債務保証に係る債務残高 | DL5: 当該団体からの損失補償に係る債務残高 | DQ5: 一般会計等 負担見込額 | DV5: 備考
A7: 1 | B7: 一般会計 | Q7: 8243 | V7: 7544 | AA7: 699 | AF7: 58 | AK7: 2056 | AP7: 3070 | BQ7: 1 | BS7: 中芸介護公社 | CH7: -3 | CM7: 977 | CR7: 149 | CW7: 3 | DB7: 0 | DG7: 0 | DL7: 0 | DQ7: 0
A8: 2 | BQ8: 2 | BS8: なはり観光文化協会 | CH8: 21 | CM8: 26 | CR8: 3 | CW8: 0 | DB8: 0 | DG8: 0 | DL8: 0 | DQ8: 0
A9: 3 | BQ9: 3 | BS9: なはりの郷 | CH9: 24 | CM9: 39 | CR9: 20 | CW9: 5 | DB9: 0 | DG9: 0 | DL9: 0 | DQ9: 0
A10: 4 | BQ10: 4
A11: 5 | BQ11: 5
A12: 6 | BQ12: 6
A13: 7 | BQ13: 7
A14: 8 | BQ14: 8
A15: 9 | BQ15: 9
A16: 10 | BQ16: 10
A17: 11 | BQ17: 11
A18: 12 | BQ18: 12
A19: 13 | BQ19: 13
A20: 14 | BQ20: 14
A21: 15 | BQ21: 15
A22: 16 | AZ22: 実質赤字額 | BQ22: 16
A23: 計 | B23: 一般会計等（純計） | Q23: =SUM(Q7:U22) -> 8243 | V23: =SUM(V7:Z22) -> 7544 | AA23: =SUM(AA7:AE22) -> 699 | AF23: =SUM(AF7:AJ22) -> 58 | AP23: =SUM(AP7:AT22) -> 3070 | AZ23: - | BQ23: 17
A24: ※一般会計等（純計）は、各会計の相互間の繰入・繰出等の重複を控除したものであり、各会計の合計と一致しない場合がある。 | BQ24: 18
A25: 公営企業会計等の財政状況（単位：百万円） | BQ25: 19
A26: 会計名 | Q26: 総収益 （歳入） | V26: 総費用 （歳出） | AA26: 純損益 （形式収支） | AF26: 資金剰余額 /不足額 （実質収支） | AK26: 他会計等 からの 繰入金 | AP26: 企業債 （地方債） 現在高 | AU26: 左のうち 一般会計等 繰入見込額 | AZ26: 資金不足 比率 | BE26: 備考 | BQ26: 20
BQ27: 21
A28: 1 | B28: 国民健康保険事業特別会計 | Q28: 678 | V28: 647 | AA28: =Q28-V28 -> 31 | AF28: 31 | AK28: 82 | AP28: 0 | AU28: 0 | BQ28: 22
A29: 2 | B29: 後期高齢者医療特別会計 | Q29: 65 | V29: 64 | AA29: =Q29-V29 -> 1 | AF29: 1 | AK29: 27 | AP29: 0 | AU29: 0 | BQ29: 23
A30: 3 | B30: 簡易水道事業特別会計 | Q30: 150 | V30: 144 | AA30: =Q30-V30 -> 6 | AF30: 6 | AK30: 18 | AP30: 564 | AU30: 151 | BE30: 法非適用企業 | BQ30: 24
A31: 4 | B31: 漁業集落排水事業特別会計 | Q31: 13 | V31: 10 | AA31: =Q31-V31 -> 3 | AF31: 3 | AK31: 6 | AP31: 52 | AU31: 46 | BE31: 法非適用企業 | BQ31: 25
A32: 5 | BQ32: 26
A33: 6 | BQ33: 27
A34: 7 | BQ34: 28
A35: 8 | BQ35: 29
A36: 9 | BQ36: 30
A37: 10 | BQ37: 31
A38: 11 | BQ38: 32
A39: 12 | BQ39: 33
A40: 13 | BQ40: 34
A41: 14 | BQ41: 35
A42: 15 | BQ42: 36
A43: 16 | BQ43: 37
...

Sheet 財政比較分析表

Sheet 経常経費分析表（経常収支比率の分析）

Sheet 経常経費分析表（人件費・公債費・普通建設事業費の分析）
A5: 人件費及び人件費に準ずる費用の分析
G6: 人件費及び人件費に準ずる費用
K7: 当該団体決算額 （千円） | M7: 人口1人当たり決算額
L8: 当該団体（円） | M8: 類似団体平均（円） | N8: 対比（％）
G9: 人件費 | K9: 424546 | L9: 126391 | M9: 189696 | N9: -33.4
G10: 賃金（物件費） | K10: 58642 | L10: 17458 | M10: 21936 | N10: -20.4
G11: 一部事務組合負担金（補助費等） | K11: 96512 | L11: 28732 | M11: 29437 | N11: -2.4
G12: 公営企業（法適）等に対する繰出し（補助費等） | K12: - | L12: - | M12: 3160 | N12: -
G13: 公営企業（法適）等に対する繰出し（投資及び出資金・貸付金） | K13: - | L13: - | M13: - | N13: -
G14: 公営企業（法非適）等に対する繰出し（繰出金） | K14: 14650 | L14: 4361 | M14: 9091 | N14: -52
G15: 事業費支弁に係る職員の人件費（投資的経費） | K15: 46499 | L15: 13843 | M15: 4470 | N15: 209.7
G16: ▲退職金 | K16: -44249 | L16: -13173 | M16: -19414 | N16: -32.1
G17: 合計 | K17: 596600 | L17: 177612 | M17: 238376 | N17: -25.5
G19: 参考
K20: 当該団体 | L20: 類似団体平均 | M20: 対比（差引）
G21: 人口1,000人当たり職員数（人） | K21: 16.37 | L21: 21.75 | M21: -5.38
G22: ラスパイレス指数 | K22: 98.4 | L22: 95.2 | M22: 3.2
A26: （注）住民基本台帳人口については、住民基本台帳関係年報の調査基準日変更に伴い、平成25年度以降、調査年度の1月1日現在の住民基本台帳に登載されている人口を記載。
A28: 公債費及び公債費に準ずる費用の分析
G29: 公債費及び公債費に準ずる費用（実質公債費比率の構成要素）
K30: 当該団体決算額 （千円） | M30: 人口1人当たり決算額
L31: 当該団体（円） | M31: 類似団体平均（円） | N31: 対比（％）
G32: 元利償還金の額 （繰上償還額等を除く） | K32: 317197 | L32: 94432 | M32: 139853 | N32: -32.5
G33: 積立不足額を考慮して算定した額 | K33: - | L33: - | M33: - | N33: -
G34: 満期一括償還地方債の一年当たりの元金償還金に相当するもの （年度割相当額） | K34: - | L34: - | M34: 4 | N34: -
G35: 公営企業に要する経費の財源とする地方債の償還の財源に 充てたと認められる繰入金 | K35: 10126 | L35: 3015 | M35: 31890 | N35: -90.5
G36: 一部事務組合等の起こした地方債に充てたと認められる 補助金又は負担金 | K36: 32721 | L36: 9741 | M36: 5316 | N36: 83.2
G37: 公債費に準ずる債務負担行為に係るもの | K37: - | L37: - | M37: 1757 | N37: -
G38: 一時借入金利子 （同一団体における会計間の現金運用に係る利子は除く） | K38: 142 | L38: 42 | M38: 42 | N38: 0
G39: ▲特定財源の額 | K39: -94679 | L39: -28187 | M39: -8426 | N39: 234.5
G40: ▲地方債に係る元利償還金及び準元利償還金に要する経費として 普通交付税の額の算定に用いる基準財政需要額に算入された額 | K40: -310497 | L40: -92437 | M40: -127711 | N40: -27.6
G41: 合計 | K41: -44990 | L41: -13394 | M41: 42725 | N41: -131.3
G42: ※平成29年度中に市町村合併した団体で、合併前の団体ごとの決算に基づく実質公債費比率を算出していない団体については、グラフを表記しない。
A47: （参考） 普通建設事業費の分析
G48: 普通建設事業費
I49: 当該団体決算額 （千円） | J49: 人口１人当たり決算額
J50: 当該団体(円) | K50: 増減率(%)(A) | L50: 類似団体平均(円) | M50: 増減率(%)(B) | N50: (A)-(B)
G51: H24 | I51: 239236 | J51: 67600 | K51: -69.8 | L51: 228305 | M51: 5.6 | N51: -75.4
H52: うち単独分 | I52: 95049 | J52: 26858 | K52: -52.1 | L52: 86611 | M52: -20.4 | N52: -31.7
G53: H25 | I53: 522591 | J53: 148886 | K53: 120.2 | L53: 316331 | M53: 38.6 | N53: 81.6
...

Sheet 性質別歳出決算分析表（住民一人当たりのコスト）

Sheet 目的別歳出決算分析表（住民一人当たりのコスト）

Sheet 実質収支比率等に係る経年分析
J45: 標準財政規模比（％）
B46: 区分 | E46: 年度 | F46: H24 | G46: H25 | H46: H26 | I46: H27 | J46: H28
C47: 財政調整基金残高 | F47: 51.37 | G47: 58.35 | H47: 57.07 | I47: 29.37 | J47: 39.73
C48: 実質収支額 | F48: 2.18 | G48: 4.88 | H48: 2.27 | I48: 2.71 | J48: 3.51
C49: 実質単年度収支 | F49: 0.37 | G49: 11.76 | H49: 1.73 | I49: ▲ 18.21 | J49: 13.85

Sheet 連結実質赤字比率に係る赤字・黒字の構成分析
J32: 標準財政規模比（％）
B33: 会計 | E33: 年度 | F33: H24 | G33: H25 | H33: H26 | I33: H27 | J33: H28
C34: 一般会計 | F34: 2.18 | G34: 4.88 | H34: 2.27 | I34: 2.71 | J34: 3.5
C35: 国民健康保険事業特別会計 | F35: 1.15 | G35: 0.24 | H35: 0.7 | I35: 1.87 | J35: 1.89
C36: 簡易水道事業特別会計 | F36: 0.15 | G36: 0.32 | H36: 0.12 | I36: 0.32 | J36: 0.34
C37: 漁業集落排水事業特別会計 | F37: 0.06 | G37: 0.06 | H37: 0.08 | I37: 0.1 | J37: 0.14
C38: 後期高齢者医療特別会計 | F38: 0.03 | G38: 0.02 | H38: 0.07 | I38: 0.06 | J38: 0.06
C42: その他会計（赤字） | F42: - | G42: - | H42: - | I42: - | J42: -
C43: その他会計（黒字） | F43: - | G43: - | H43: - | I43: - | J43: -
B44: ※平成29年度中に市町村合併した団体で、合併前の団体ごとの決算に基づく連結実質赤字比率を算出していない団体については、グラフを表記しない。

Sheet 実質公債費比率（分子）の構造
O43: （百万円）
B44: 分子の構造 | J44: 年度 | K44: H24 | L44: H25 | M44: H26 | N44: H27 | O44: H28
B45: 元利償還金等(A) | E45: 元利償還金 | K45: 480 | L45: 394 | M45: 324 | N45: 302 | O45: 317
E46: 減債基金積立不足算定額 | K46: - | L46: - | M46: - | N46: - | O46: -
E47: 満期一括償還地方債に係る年度割相当額 | K47: - | L47: - | M47: - | N47: - | O47: -
E48: 公営企業債の元利償還金に対する繰入金 | K48: 7 | L48: 7 | M48: 7 | N48: 12 | O48: 10
E49: 組合等が起こした地方債の元利償還金に対する負担金等 | K49: 35 | L49: 35 | M49: 35 | N49: 35 | O49: 33
E50: 債務負担行為に基づく支出額 | K50: - | L50: - | M50: - | N50: - | O50: -
E51: 一時借入金の利子 | K51: 1 | L51: 1 | M51: 0 | N51: - | O51: 0
B52: 算入公債費等(B) | E52: 算入公債費等 | K52: 419 | L52: 368 | M52: 369 | N52: 396 | O52: 405
B53: (A)－(B) | E53: 実質公債費比率の分子 | K53: 104 | L53: 69 | M53: -3 | N53: -47 | O53: -45
B54: ※平成29年度中に市町村合併した団体で、合併前の団体ごとの決算に基づく実質公債費比率を算出していない団体については、グラフを表記しない。

Sheet 将来負担比率（分子）の構造
M39: （百万円）
B40: 分子の構造 | H40: 年度 | I40: H24 | J40: H25 | K40: H26 | L40: H27 | M40: H28
B41: 将来負担額(A) | E41: 一般会計等に係る地方債の現在高 | I41: 2403 | J41: 2358 | K41: 2505 | L41: 2514 | M41: 3070
E42: 債務負担行為に基づく支出予定額 | I42: 0 | J42: 0 | K42: 0 | L42: - | M42: -
E43: 公営企業債等繰入見込額 | I43: 107 | J43: 122 | K43: 109 | L43: 162 | M43: 198
E44: 組合等負担等見込額 | I44: 245 | J44: 215 | K44: 182 | L44: 151 | M44: 247
E45: 退職手当負担見込額 | I45: 516 | J45: 482 | K45: 458 | L45: 508 | M45: 442
E46: 設立法人等の負債額等負担見込額 | I46: - | J46: - | K46: - | L46: - | M46: -
E47: うち、健全化法施行規則附則第三条に係る負担見込額 | I47: - | J47: - | K47: - | L47: - | M47: -
E48: 連結実質赤字額 | I48: - | J48: - | K48: - | L48: - | M48: -
E49: 組合等連結実質赤字額負担見込額 | I49: - | J49: - | K49: - | L49: - | M49: -
B50: 充当可能財源等(B) | E50: 充当可能基金 | I50: 3010 | J50: 3195 | K50: 3347 | L50: 3855 | M50: 4213
E51: 充当可能特定歳入 | I51: 121 | J51: 78 | K51: 56 | L51: 40 | M51: 22
E52: 基準財政需要額算入見込額 | I52: 2765 | J52: 2802 | K52: 2851 | L52: 3125 | M52: 3328
B53: (A)－(B) | E53: 将来負担比率の分子 | I53: -2625 | J53: -2897 | K53: -3001 | L53: -3685 | M53: -3607
B54: ※平成29年度中に市町村合併した団体で、合併前の団体ごとの決算に基づく将来負担比率を算出していない団体については、グラフを表記しない。

Sheet 公会計指標分析・財政指標組合せ分析表
AY10: a
AY12: a
B41: 将来負担比率及び有形固定資産減価償却率の組合せによる分析
G42: 分析欄
G43: 将来負担比率については、地方債現在高等の将来負担額に対し、基金や基準財政需要額算入見込額等の充当可能財源が多く、将来負担額がマイナスとなっている。有形固定資産減価償却率については、51.7％と類似団体平均値を下回っているものの、多くの施設で老朽化が進んでおり、今後、公共施設等総合管理計画に基づき、老朽化対策に積極的に取り組んでいく。
G49: ( 参考 ）
K50: H24 | L50: H25 | M50: H26 | N50: H27 | O50: H28
G51: 当該団体値 | I51: 将来負担比率
I53: 有形固定資産減価償却率 | N53: 51.7
G55: 類似団体内平均値 | I55: 将来負担比率 | N55: 0
I57: 有形固定資産減価償却率 | N57: 54.2
B63: 将来負担比率及び実質公債費比率の組合せによる分析
G64: 分析欄
G65: 将来負担比率については、地方債現在高等の将来負担額に対し、基金や基準財政需要額算入見込額等の充当可能財源が多く、将来負担額がマイナスとなっている。 また、実質公債費比率は平成19年度から実施した補償金免除繰上償還や平成26年度以降の基金取崩による繰上償還等により、類似団体平均を下回っている。 しかし、今後数年間は投資事業が集中し、地方債の発行増による将来負担額の増加が見込まれるため、計画に基づく事業実施と有利な地方債や補助事業を活用し、適正な管理に努める。
G71: （ 参考 ）
K72: H24 | L72: H25 | M72: H26 | N72: H27 | O72: H28
G73: 当該団体値 | I73: 将来負担比率 | S73: 9.9
I75: 実質公債費比率 | K75: 9.4 | L75: 8 | M75: 4.4 | N75: 0.6 | O75: -2.2 | U75: 81.2 | W75: 87.2 | Y75: 99.8 | AA75: 109.5 | AC75: 115.2
G77: 類似団体内平均値 | I77: 将来負担比率 | K77: 0 | L77: 0 | M77: 0 | N77: 0 | O77: 0 | R77: 12.3 | T77: 11.1
I79: 実質公債費比率 | K79: 10.1 | L79: 9.2 | M79: 8.2 | N79: 7.8 | O79: 7.4 | V79: 53.5 | X79: 48.2 | Z79: 34.2 | AB79: 30.3 | AD79: 28.9

Sheet 施設類型別ストック情報分析表①

Sheet 施設類型別ストック情報分析表②

Sheet データシート
D2: 当該団体(円) | F2: 類似団体内平均(円)
A3: H24 | D3: 67600 | F3: 228305
D4: 26858 | F4: 86611
A5: H25 | D5: 148886 | F5: 316331
D6: 71076 | F6: 106387
A7: H26 | D7: 195312 | F7: 333013
D8: 154512 | F8: 126732
A9: H27 | D9: 144782 | F9: 280458
D10: 64308 | F10: 127286
A11: H28 | D11: 445738 | F11: 291945
D12: 335987 | F12: 127651
D13: 200464 | F13: 290010
D14: 130548 | F14: 114933
A17: 実質収支比率等に係る経年分析
B18: =実質収支比率等に係る経年分析!F$46 -> H24 | C18: =実質収支比率等に係る経年分析!G$46 -> H25 | D18: =実質収支比率等に係る経年分析!H$46 -> H26 | E18: =実質収支比率等に係る経年分析!I$46 -> H27 | F18: =実質収支比率等に係る経年分析!J$46 -> H28
A19: 実質収支額 | B19: =ROUND(VALUE(SUBSTITUTE(実質収支比率等に係る経年分析!F$48,"▲","-")),2) -> 2.18 | C19: =ROUND(VALUE(SUBSTITUTE(実質収支比率等に係る経年分析!G$48,"▲","-")),2) -> 4.88 | D19: =ROUND(VALUE(SUBSTITUTE(実質収支比率等に係る経年分析!H$48,"▲","-")),2) -> 2.27 | E19: =ROUND(VALUE(SUBSTITUTE(実質収支比率等に係る経年分析!I$48,"▲","-")),2) -> 2.71 | F19: =ROUND(VALUE(SUBSTITUTE(実質収支比率等に係る経年分析!J$48,"▲","-")),2) -> 3.51
A20: 財政調整基金残高 | B20: =ROUND(VALUE(SUBSTITUTE(実質収支比率等に係る経年分析!F$47,"▲","-")),2) -> 51.37 | C20: =ROUND(VALUE(SUBSTITUTE(実質収支比率等に係る経年分析!G$47,"▲","-")),2) -> 58.35 | D20: =ROUND(VALUE(SUBSTITUTE(実質収支比率等に係る経年分析!H$47,"▲","-")),2) -> 57.07 | E20: =ROUND(VALUE(SUBSTITUTE(実質収支比率等に係る経年分析!I$47,"▲","-")),2) -> 29.37 | F20: =ROUND(VALUE(SUBSTITUTE(実質収支比率等に係る経年分析!J$47,"▲","-")),2) -> 39.73
A21: 実質単年度収支 | B21: =IF(ISNUMBER(VALUE(SUBSTITUTE(実質収支比率等に係る経年分析!F$49,"▲","-"))),ROUND(VALUE(SUBSTITUTE(実質収支比率等に係る経年分析!F$49,"▲","-")),2),NA()) -> 0.37 | C21: =IF(ISNUMBER(VALUE(SUBSTITUTE(実質収支比率等に係る経年分析!G$49,"▲","-"))),ROUND(VALUE(SUBSTITUTE(実質収支比率等に係る経年分析!G$49,"▲","-")),2),NA()) -> 11.76 | D21: =IF(ISNUMBER(VALUE(SUBSTITUTE(実質収支比率等に係る経年分析!H$49,"▲","-"))),ROUND(VALUE(SUBSTITUTE(実質収支比率等に係る経年分析!H$49,"▲","-")),2),NA()) -> 1.73 | E21: =IF(ISNUMBER(VALUE(SUBSTITUTE(実質収支比率等に係る経年分析!I$49,"▲","-"))),ROUND(VALUE(SUBSTITUTE(実質収支比率等に係る経年分析!I$49,"▲","-")),2),NA()) -> -18.21 | F21: =IF(ISNUMBER(VALUE(SUBSTITUTE(実質収支比率等に係る経年分析!J$49,"▲","-"))),ROUND(VALUE(SUBSTITUTE(実質収支比率等に係る経年分析!J$49,"▲","-")),2),NA()) -> 13.85
A24: 連結実質赤字比率に係る赤字・黒字の構成分析
B25: =連結実質赤字比率に係る赤字・黒字の構成分析!F$33 -> H24 | D25: =連結実質赤字比率に係る赤字・黒字の構成分析!G$33 -> H25 | F25: =連結実質赤字比率に係る赤字・黒字の構成分析!H$33 -> H26 | H25: =連結実質赤字比率に係る赤字・黒字の構成分析!I$33 -> H27 | J25: =連結実質赤字比率に係る赤字・黒字の構成分析!J$33 -> H28
B26: 赤字額 | C26: 黒字額 | D26: 赤字額 | E26: 黒字額 | F26: 赤字額 | G26: 黒字額 | H26: 赤字額 | I26: 黒字額 | J26: 赤字額 | K26: 黒字額
A27: =IF(連結実質赤字比率に係る赤字・黒字の構成分析!C$43="",NA(),連結実質赤字比率に係る赤字・黒字の構成分析!C$43) -> その他会計（黒字） | B27: =IF(ROUND(VALUE(SUBSTITUTE(連結実質赤字比率に係る赤字・黒字の構成分析!F$43,"▲", "-")), 2) < 0, ABS(ROUND(VALUE(SUBSTITUTE(連結実質赤字比率に係る赤字・黒字の構成分析!F$43,"▲", "-")), 2)), NA()) -> #VALUE! | C27: =IF(ROUND(VALUE(SUBSTITUTE(連結実質赤字比率に係る赤字・黒字の構成分析!F$43,"▲", "-")), 2) >= 0, ABS(ROUND(VALUE(SUBSTITUTE(連結実質赤字比率に係る赤字・黒字の構成分析!F$43,"▲", "-")), 2)), NA()) -> #VALUE! | D27: =IF(ROUND(VALUE(SUBSTITUTE(連結実質赤字比率に係る赤字・黒字の構成分析!G$43,"▲", "-")), 2) < 0, ABS(ROUND(VALUE(SUBSTITUTE(連結実質赤字比率に係る赤字・黒字の構成分析!G$43,"▲", "-")), 2)), NA()) -> #VALUE! | E27: =IF(ROUND(VALUE(SUBSTITUTE(連結実質赤字比率に係る赤字・黒字の構成分析!G$43,"▲", "-")), 2) >= 0, ABS(ROUND(VALUE(SUBSTITUTE(連結実質赤字比率に係る赤字・黒字の構成分析!G$43,"▲", "-")), 2)), NA()) -> #VALUE! | F27: =IF(ROUND(VALUE(SUBSTITUTE(連結実質赤字比率に係る赤字・黒字の構成分析!H$43,"▲", "-")), 2) < 0, ABS(ROUND(VALUE(SUBSTITUTE(連結実質赤字比率に係る赤字・黒字の構成分析!H$43,"▲", "-")), 2)), NA()) -> #VALUE! | G27: =IF(ROUND(VALUE(SUBSTITUTE(連結実質赤字比率に係る赤字・黒字の構成分析!H$43,"▲", "-")), 2) >= 0, ABS(ROUND(VALUE(SUBSTITUTE(連結実質赤字比率に係る赤字・黒字の構成分析!H$43,"▲", "-")), 2)), NA()) -> #VALUE! | H27: =IF(ROUND(VALUE(SUBSTITUTE(連結実質赤字比率に係る赤字・黒字の構成分析!I$43,"▲", "-")), 2) < 0, ABS(ROUND(VALUE(SUBSTITUTE(連結実質赤字比率に係る赤字・黒字の構成分析!I$43,"▲", "-")), 2)), NA()) -> #VALUE! | I27: =IF(ROUND(VALUE(SUBSTITUTE(連結実質赤字比率に係る赤字・黒字の構成分析!I$43,"▲", "-")), 2) >= 0, ABS(ROUND(VALUE(SUBSTITUTE(連結実質赤字比率に係る赤字・黒字の構成分析!I$43,"▲", "-")), 2)), NA()) -> #VALUE! | J27: =IF(ROUND(VALUE(SUBSTITUTE(連結実質赤字比率に係る赤字・黒字の構成分析!J$43,"▲", "-")), 2) < 0, ABS(ROUND(VALUE(SUBSTITUTE(連結実質赤字比率に係る赤字・黒字の構成分析!J$43,"▲", "-")), 2)), NA()) -> #VALUE! | K27: =IF(ROUND(VALUE(SUBSTITUTE(連結実質赤字比率に係る赤字・黒字の構成分析!J$43,"▲", "-")), 2) >= 0, ABS(ROUND(VALUE(SUBSTITUTE(連結実質赤字比率に係る赤字・黒字の構成分析!J$43,"▲", "-")), 2)), NA()) -> #VALUE!
A28: =IF(連結実質赤字比率に係る赤字・黒字の構成分析!C$42="",NA(),連結実質赤字比率に係る赤字・黒字の構成分析!C$42) -> その他会計（赤字） | B28: =IF(ROUND(VALUE(SUBSTITUTE(連結実質赤字比率に係る赤字・黒字の構成分析!F$42,"▲", "-")), 2) < 0, ABS(ROUND(VALUE(SUBSTITUTE(連結実質赤字比率に係る赤字・黒字の構成分析!F$42,"▲", "-")), 2)), NA()) -> #VALUE! | C28: =IF(ROUND(VALUE(SUBSTITUTE(連結実質赤字比率に係る赤字・黒字の構成分析!F$42,"▲", "-")), 2) >= 0, ABS(ROUND(VALUE(SUBSTITUTE(連結実質赤字比率に係る赤字・黒字の構成分析!F$42,"▲", "-")), 2)), NA()) -> #VALUE! | D28: =IF(ROUND(VALUE(SUBSTITUTE(連結実質赤字比率に係る赤字・黒字の構成分析!G$42,"▲", "-")), 2) < 0, ABS(ROUND(VALUE(SUBSTITUTE(連結実質赤字比率に係る赤字・黒字の構成分析!G$42,"▲", "-")), 2)), NA()) -> #VALUE! | E28: =IF(ROUND(VALUE(SUBSTITUTE(連結実質赤字比率に係る赤字・黒字の構成分析!G$42,"▲", "-")), 2) >= 0, ABS(ROUND(VALUE(SUBSTITUTE(連結実質赤字比率に係る赤字・黒字の構成分析!G$42,"▲", "-")), 2)), NA()) -> #VALUE! | F28: =IF(ROUND(VALUE(SUBSTITUTE(連結実質赤字比率に係る赤字・黒字の構成分析!H$42,"▲", "-")), 2) < 0, ABS(ROUND(VALUE(SUBSTITUTE(連結実質赤字比率に係る赤字・黒字の構成分析!H$42,"▲", "-")), 2)), NA()) -> #VALUE! | G28: =IF(ROUND(VALUE(SUBSTITUTE(連結実質赤字比率に係る赤字・黒字の構成分析!H$42,"▲", "-")), 2) >= 0, ABS(ROUND(VALUE(SUBSTITUTE(連結実質赤字比率に係る赤字・黒字の構成分析!H$42,"▲", "-")), 2)), NA()) -> #VALUE! | H28: =IF(ROUND(VALUE(SUBSTITUTE(連結実質赤字比率に係る赤字・黒字の構成分析!I$42,"▲", "-")), 2) < 0, ABS(ROUND(VALUE(SUBSTITUTE(連結実質赤字比率に係る赤字・黒字の構成分析!I$42,"▲", "-")), 2)), NA()) -> #VALUE! | I28: =IF(ROUND(VALUE(SUBSTITUTE(連結実質赤字比率に係る赤字・黒字の構成分析!I$42,"▲", "-")), 2) >= 0, ABS(ROUND(VALUE(SUBSTITUTE(連結実質赤字比率に係る赤字・黒字の構成分析!I$42,"▲", "-")), 2)), NA()) -> #VALUE! | J28: =IF(ROUND(VALUE(SUBSTITUTE(連結実質赤字比率に係る赤字・黒字の構成分析!J$42,"▲", "-")), 2) < 0, ABS(ROUND(VALUE(SUBSTITUTE(連結実質赤字比率に係る赤字・黒字の構成分析!J$42,"▲", "-")), 2)), NA()) -> #VALUE! | K28: =IF(ROUND(VALUE(SUBSTITUTE(連結実質赤字比率に係る赤字・黒字の構成分析!J$42,"▲", "-")), 2) >= 0, ABS(ROUND(VALUE(SUBSTITUTE(連結実質赤字比率に係る赤字・黒字の構成分析!J$42,"▲", "-")), 2)), NA()) -> #VALUE!
A29: =IF(連結実質赤字比率に係る赤字・黒字の構成分析!C$41="",NA(),連結実質赤字比率に係る赤字・黒字の構成分析!C$41) -> #N/A | B29: =IF(ROUND(VALUE(SUBSTITUTE(連結実質赤字比率に係る赤字・黒字の構成分析!F$41,"▲", "-")), 2) < 0, ABS(ROUND(VALUE(SUBSTITUTE(連結実質赤字比率に係る赤字・黒字の構成分析!F$41,"▲", "-")), 2)), NA()) -> #VALUE! | C29: =IF(ROUND(VALUE(SUBSTITUTE(連結実質赤字比率に係る赤字・黒字の構成分析!F$41,"▲", "-")), 2) >= 0, ABS(ROUND(VALUE(SUBSTITUTE(連結実質赤字比率に係る赤字・黒字の構成分析!F$41,"▲", "-")), 2)), NA()) -> #VALUE! | D29: =IF(ROUND(VALUE(SUBSTITUTE(連結実質赤字比率に係る赤字・黒字の構成分析!G$41,"▲", "-")), 2) < 0, ABS(ROUND(VALUE(SUBSTITUTE(連結実質赤字比率に係る赤字・黒字の構成分析!G$41,"▲", "-")), 2)), NA()) -> #VALUE! | E29: =IF(ROUND(VALUE(SUBSTITUTE(連結実質赤字比率に係る赤字・黒字の構成分析!G$41,"▲", "-")), 2) >= 0, ABS(ROUND(VALUE(SUBSTITUTE(連結実質赤字比率に係る赤字・黒字の構成分析!G$41,"▲", "-")), 2)), NA()) -> #VALUE! | F29: =IF(ROUND(VALUE(SUBSTITUTE(連結実質赤字比率に係る赤字・黒字の構成分析!H$41,"▲", "-")), 2) < 0, ABS(ROUND(VALUE(SUBSTITUTE(連結実質赤字比率に係る赤字・黒字の構成分析!H$41,"▲", "-")), 2)), NA()) -> #VALUE! | G29: =IF(ROUND(VALUE(SUBSTITUTE(連結実質赤字比率に係る赤字・黒字の構成分析!H$41,"▲", "-")), 2) >= 0, ABS(ROUND(VALUE(SUBSTITUTE(連結実質赤字比率に係る赤字・黒字の構成分析!H$41,"▲", "-")), 2)), NA()) -> #VALUE! | H29: =IF(ROUND(VALUE(SUBSTITUTE(連結実質赤字比率に係る赤字・黒字の構成分析!I$41,"▲", "-")), 2) < 0, ABS(ROUND(VALUE(SUBSTITUTE(連結実質赤字比率に係る赤字・黒字の構成分析!I$41,"▲", "-")), 2)), NA()) -> #VALUE! | I29: =IF(ROUND(VALUE(SUBSTITUTE(連結実質赤字比率に係る赤字・黒字の構成分析!I$41,"▲", "-")), 2) >= 0, ABS(ROUND(VALUE(SUBSTITUTE(連結実質赤字比率に係る赤字・黒字の構成分析!I$41,"▲", "-")), 2)), NA()) -> #VALUE! | J29: =IF(ROUND(VALUE(SUBSTITUTE(連結実質赤字比率に係る赤字・黒字の構成分析!J$41,"▲", "-")), 2) < 0, ABS(ROUND(VALUE(SUBSTITUTE(連結実質赤字比率に係る赤字・黒字の構成分析!J$41,"▲", "-")), 2)), NA()) -> #VALUE! | K29: =IF(ROUND(VALUE(SUBSTITUTE(連結実質赤字比率に係る赤字・黒字の構成分析!J$41,"▲", "-")), 2) >= 0, ABS(ROUND(VALUE(SUBSTITUTE(連結実質赤字比率に係る赤字・黒字の構成分析!J$41,"▲", "-")), 2)), NA()) -> #VALUE!
A30: =IF(連結実質赤字比率に係る赤字・黒字の構成分析!C$40="",NA(),連結実質赤字比率に係る赤字・黒字の構成分析!C$40) -> #N/A | B30: =IF(ROUND(VALUE(SUBSTITUTE(連結実質赤字比率に係る赤字・黒字の構成分析!F$40,"▲", "-")), 2) < 0, ABS(ROUND(VALUE(SUBSTITUTE(連結実質赤字比率に係る赤字・黒字の構成分析!F$40,"▲", "-")), 2)), NA()) -> #VALUE! | C30: =IF(ROUND(VALUE(SUBSTITUTE(連結実質赤字比率に係る赤字・黒字の構成分析!F$40,"▲", "-")), 2) >= 0, ABS(ROUND(VALUE(SUBSTITUTE(連結実質赤字比率に係る赤字・黒字の構成分析!F$40,"▲", "-")), 2)), NA()) -> #VALUE! | D30: =IF(ROUND(VALUE(SUBSTITUTE(連結実質赤字比率に係る赤字・黒字の構成分析!G$40,"▲", "-")), 2) < 0, ABS(ROUND(VALUE(SUBSTITUTE(連結実質赤字比率に係る赤字・黒字の構成分析!G$40,"▲", "-")), 2)), NA()) -> #VALUE! | E30: =IF(ROUND(VALUE(SUBSTITUTE(連結実質赤字比率に係る赤字・黒字の構成分析!G$40,"▲", "-")), 2) >= 0, ABS(ROUND(VALUE(SUBSTITUTE(連結実質赤字比率に係る赤字・黒字の構成分析!G$40,"▲", "-")), 2)), NA()) -> #VALUE! | F30: =IF(ROUND(VALUE(SUBSTITUTE(連結実質赤字比率に係る赤字・黒字の構成分析!H$40,"▲", "-")), 2) < 0, ABS(ROUND(VALUE(SUBSTITUTE(連結実質赤字比率に係る赤字・黒字の構成分析!H$40,"▲", "-")), 2)), NA()) -> #VALUE! | G30: =IF(ROUND(VALUE(SUBSTITUTE(連結実質赤字比率に係る赤字・黒字の構成分析!H$40,"▲", "-")), 2) >= 0, ABS(ROUND(VALUE(SUBSTITUTE(連結実質赤字比率に係る赤字・黒字の構成分析!H$40,"▲", "-")), 2)), NA()) -> #VALUE! | H30: =IF(ROUND(VALUE(SUBSTITUTE(連結実質赤字比率に係る赤字・黒字の構成分析!I$40,"▲", "-")), 2) < 0, ABS(ROUND(VALUE(SUBSTITUTE(連結実質赤字比率に係る赤字・黒字の構成分析!I$40,"▲", "-")), 2)), NA()) -> #VALUE! | I30: =IF(ROUND(VALUE(SUBSTITUTE(連結実質赤字比率に係る赤字・黒字の構成分析!I$40,"▲", "-")), 2) >= 0, ABS(ROUND(VALUE(SUBSTITUTE(連結実質赤字比率に係る赤字・黒字の構成分析!I$40,"▲", "-")), 2)), NA()) -> #VALUE! | J30: =IF(ROUND(VALUE(SUBSTITUTE(連結実質赤字比率に係る赤字・黒字の構成分析!J$40,"▲", "-")), 2) < 0, ABS(ROUND(VALUE(SUBSTITUTE(連結実質赤字比率に係る赤字・黒字の構成分析!J$40,"▲", "-")), 2)), NA()) -> #VALUE! | K30: =IF(ROUND(VALUE(SUBSTITUTE(連結実質赤字比率に係る赤字・黒字の構成分析!J$40,"▲", "-")), 2) >= 0, ABS(ROUND(VALUE(SUBSTITUTE(連結実質赤字比率に係る赤字・黒字の構成分析!J$40,"▲", "-")), 2)), NA()) -> #VALUE!
A31: =IF(連結実質赤字比率に係る赤字・黒字の構成分析!C$39="",NA(),連結実質赤字比率に係る赤字・黒字の構成分析!C$39) -> #N/A | B31: =IF(ROUND(VALUE(SUBSTITUTE(連結実質赤字比率に係る赤字・黒字の構成分析!F$39,"▲", "-")), 2) < 0, ABS(ROUND(VALUE(SUBSTITUTE(連結実質赤字比率に係る赤字・黒字の構成分析!F$39,"▲", "-")), 2)), NA()) -> #VALUE! | C31: =IF(ROUND(VALUE(SUBSTITUTE(連結実質赤字比率に係る赤字・黒字の構成分析!F$39,"▲", "-")), 2) >= 0, ABS(ROUND(VALUE(SUBSTITUTE(連結実質赤字比率に係る赤字・黒字の構成分析!F$39,"▲", "-")), 2)), NA()) -> #VALUE! | D31: =IF(ROUND(VALUE(SUBSTITUTE(連結実質赤字比率に係る赤字・黒字の構成分析!G$39,"▲", "-")), 2) < 0, ABS(ROUND(VALUE(SUBSTITUTE(連結実質赤字比率に係る赤字・黒字の構成分析!G$39,"▲", "-")), 2)), NA()) -> #VALUE! | E31: =IF(ROUND(VALUE(SUBSTITUTE(連結実質赤字比率に係る赤字・黒字の構成分析!G$39,"▲", "-")), 2) >= 0, ABS(ROUND(VALUE(SUBSTITUTE(連結実質赤字比率に係る赤字・黒字の構成分析!G$39,"▲", "-")), 2)), NA()) -> #VALUE! | F31: =IF(ROUND(VALUE(SUBSTITUTE(連結実質赤字比率に係る赤字・黒字の構成分析!H$39,"▲", "-")), 2) < 0, ABS(ROUND(VALUE(SUBSTITUTE(連結実質赤字比率に係る赤字・黒字の構成分析!H$39,"▲", "-")), 2)), NA()) -> #VALUE! | G31: =IF(ROUND(VALUE(SUBSTITUTE(連結実質赤字比率に係る赤字・黒字の構成分析!H$39,"▲", "-")), 2) >= 0, ABS(ROUND(VALUE(SUBSTITUTE(連結実質赤字比率に係る赤字・黒字の構成分析!H$39,"▲", "-")), 2)), NA()) -> #VALUE! | H31: =IF(ROUND(VALUE(SUBSTITUTE(連結実質赤字比率に係る赤字・黒字の構成分析!I$39,"▲", "-")), 2) < 0, ABS(ROUND(VALUE(SUBSTITUTE(連結実質赤字比率に係る赤字・黒字の構成分析!I$39,"▲", "-")), 2)), NA()) -> #VALUE! | I31: =IF(ROUND(VALUE(SUBSTITUTE(連結実質赤字比率に係る赤字・黒字の構成分析!I$39,"▲", "-")), 2) >= 0, ABS(ROUND(VALUE(SUBSTITUTE(連結実質赤字比率に係る赤字・黒字の構成分析!I$39,"▲", "-")), 2)), NA()) -> #VALUE! | J31: =IF(ROUND(VALUE(SUBSTITUTE(連結実質赤字比率に係る赤字・黒字の構成分析!J$39,"▲", "-")), 2) < 0, ABS(ROUND(VALUE(SUBSTITUTE(連結実質赤字比率に係る赤字・黒字の構成分析!J$39,"▲", "-")), 2)), NA()) -> #VALUE! | K31: =IF(ROUND(VALUE(SUBSTITUTE(連結実質赤字比率に係る赤字・黒字の構成分析!J$39,"▲", "-")), 2) >= 0, ABS(ROUND(VALUE(SUBSTITUTE(連結実質赤字比率に係る赤字・黒字の構成分析!J$39,"▲", "-")), 2)), NA()) -> #VALUE!
A32: =IF(連結実質赤字比率に係る赤字・黒字の構成分析!C$38="",NA(),連結実質赤字比率に係る赤字・黒字の構成分析!C$38) -> 後期高齢者医療特別会計 | B32: =IF(ROUND(VALUE(SUBSTITUTE(連結実質赤字比率に係る赤字・黒字の構成分析!F$38,"▲", "-")), 2) < 0, ABS(ROUND(VALUE(SUBSTITUTE(連結実質赤字比率に係る赤字・黒字の構成分析!F$38,"▲", "-")), 2)), NA()) -> #N/A | C32: =IF(ROUND(VALUE(SUBSTITUTE(連結実質赤字比率に係る赤字・黒字の構成分析!F$38,"▲", "-")), 2) >= 0, ABS(ROUND(VALUE(SUBSTITUTE(連結実質赤字比率に係る赤字・黒字の構成分析!F$38,"▲", "-")), 2)), NA()) -> 0.03 | D32: =IF(ROUND(VALUE(SUBSTITUTE(連結実質赤字比率に係る赤字・黒字の構成分析!G$38,"▲", "-")), 2) < 0, ABS(ROUND(VALUE(SUBSTITUTE(連結実質赤字比率に係る赤字・黒字の構成分析!G$38,"▲", "-")), 2)), NA()) -> #N/A | E32: =IF(ROUND(VALUE(SUBSTITUTE(連結実質赤字比率に係る赤字・黒字の構成分析!G$38,"▲", "-")), 2) >= 0, ABS(ROUND(VALUE(SUBSTITUTE(連結実質赤字比率に係る赤字・黒字の構成分析!G$38,"▲", "-")), 2)), NA()) -> 0.02 | F32: =IF(ROUND(VALUE(SUBSTITUTE(連結実質赤字比率に係る赤字・黒字の構成分析!H$38,"▲", "-")), 2) < 0, ABS(ROUND(VALUE(SUBSTITUTE(連結実質赤字比率に係る赤字・黒字の構成分析!H$38,"▲", "-")), 2)), NA()) -> #N/A | G32: =IF(ROUND(VALUE(SUBSTITUTE(連結実質赤字比率に係る赤字・黒字の構成分析!H$38,"▲", "-")), 2) >= 0, ABS(ROUND(VALUE(SUBSTITUTE(連結実質赤字比率に係る赤字・黒字の構成分析!H$38,"▲", "-")), 2)), NA()) -> 0.07 | H32: =IF(ROUND(VALUE(SUBSTITUTE(連結実質赤字比率に係る赤字・黒字の構成分析!I$38,"▲", "-")), 2) < 0, ABS(ROUND(VALUE(SUBSTITUTE(連結実質赤字比率に係る赤字・黒字の構成分析!I$38,"▲", "-")), 2)), NA()) -> #N/A | I32: =IF(ROUND(VALUE(SUBSTITUTE(連結実質赤字比率に係る赤字・黒字の構成分析!I$38,"▲", "-")), 2) >= 0, ABS(ROUND(VALUE(SUBSTITUTE(連結実質赤字比率に係る赤字・黒字の構成分析!I$38,"▲", "-")), 2)), NA()) -> 0.06 | J32: =IF(ROUND(VALUE(SUBSTITUTE(連結実質赤字比率に係る赤字・黒字の構成分析!J$38,"▲", "-")), 2) < 0, ABS(ROUND(VALUE(SUBSTITUTE(連結実質赤字比率に係る赤字・黒字の構成分析!J$38,"▲", "-")), 2)), NA()) -> #N/A | K32: =IF(ROUND(VALUE(SUBSTITUTE(連結実質赤字比率に係る赤字・黒字の構成分析!J$38,"▲", "-")), 2) >= 0, ABS(ROUND(VALUE(SUBSTITUTE(連結実質赤字比率に係る赤字・黒字の構成分析!J$38,"▲", "-")), 2)), NA()) -> 0.06
A33: =IF(連結実質赤字比率に係る赤字・黒字の構成分析!C$37="",NA(),連結実質赤字比率に係る赤字・黒字の構成分析!C$37) -> 漁業集落排水事業特別会計 | B33: =IF(ROUND(VALUE(SUBSTITUTE(連結実質赤字比率に係る赤字・黒字の構成分析!F$37,"▲", "-")), 2) < 0, ABS(ROUND(VALUE(SUBSTITUTE(連結実質赤字比率に係る赤字・黒字の構成分析!F$37,"▲", "-")), 2)), NA()) -> #N/A | C33: =IF(ROUND(VALUE(SUBSTITUTE(連結実質赤字比率に係る赤字・黒字の構成分析!F$37,"▲", "-")), 2) >= 0, ABS(ROUND(VALUE(SUBSTITUTE(連結実質赤字比率に係る赤字・黒字の構成分析!F$37,"▲", "-")), 2)), NA()) -> 0.06 | D33: =IF(ROUND(VALUE(SUBSTITUTE(連結実質赤字比率に係る赤字・黒字の構成分析!G$37,"▲", "-")), 2) < 0, ABS(ROUND(VALUE(SUBSTITUTE(連結実質赤字比率に係る赤字・黒字の構成分析!G$37,"▲", "-")), 2)), NA()) -> #N/A | E33: =IF(ROUND(VALUE(SUBSTITUTE(連結実質赤字比率に係る赤字・黒字の構成分析!G$37,"▲", "-")), 2) >= 0, ABS(ROUND(VALUE(SUBSTITUTE(連結実質赤字比率に係る赤字・黒字の構成分析!G$37,"▲", "-")), 2)), NA()) -> 0.06 | F33: =IF(ROUND(VALUE(SUBSTITUTE(連結実質赤字比率に係る赤字・黒字の構成分析!H$37,"▲", "-")), 2) < 0, ABS(ROUND(VALUE(SUBSTITUTE(連結実質赤字比率に係る赤字・黒字の構成分析!H$37,"▲", "-")), 2)), NA()) -> #N/A | G33: =IF(ROUND(VALUE(SUBSTITUTE(連結実質赤字比率に係る赤字・黒字の構成分析!H$37,"▲", "-")), 2) >= 0, ABS(ROUND(VALUE(SUBSTITUTE(連結実質赤字比率に係る赤字・黒字の構成分析!H$37,"▲", "-")), 2)), NA()) -> 0.08 | H33: =IF(ROUND(VALUE(SUBSTITUTE(連結実質赤字比率に係る赤字・黒字の構成分析!I$37,"▲", "-")), 2) < 0, ABS(ROUND(VALUE(SUBSTITUTE(連結実質赤字比率に係る赤字・黒字の構成分析!I$37,"▲", "-")), 2)), NA()) -> #N/A | I33: =IF(ROUND(VALUE(SUBSTITUTE(連結実質赤字比率に係る赤字・黒字の構成分析!I$37,"▲", "-")), 2) >= 0, ABS(ROUND(VALUE(SUBSTITUTE(連結実質赤字比率に係る赤字・黒字の構成分析!I$37,"▲", "-")), 2)), NA()) -> 0.1 | J33: =IF(ROUND(VALUE(SUBSTITUTE(連結実質赤字比率に係る赤字・黒字の構成分析!J$37,"▲", "-")), 2) < 0, ABS(ROUND(VALUE(SUBSTITUTE(連結実質赤字比率に係る赤字・黒字の構成分析!J$37,"▲", "-")), 2)), NA()) -> #N/A | K33: =IF(ROUND(VALUE(SUBSTITUTE(連結実質赤字比率に係る赤字・黒字の構成分析!J$37,"▲", "-")), 2) >= 0, ABS(ROUND(VALUE(SUBSTITUTE(連結実質赤字比率に係る赤字・黒字の構成分析!J$37,"▲", "-")), 2)), NA()) -> 0.14
A34: =IF(連結実質赤字比率に係る赤字・黒字の構成分析!C$36="",NA(),連結実質赤字比率に係る赤字・黒字の構成分析!C$36) -> 簡易水道事業特別会計 | B34: =IF(ROUND(VALUE(SUBSTITUTE(連結実質赤字比率に係る赤字・黒字の構成分析!F$36,"▲", "-")), 2) < 0, ABS(ROUND(VALUE(SUBSTITUTE(連結実質赤字比率に係る赤字・黒字の構成分析!F$36,"▲", "-")), 2)), NA()) -> #N/A | C34: =IF(ROUND(VALUE(SUBSTITUTE(連結実質赤字比率に係る赤字・黒字の構成分析!F$36,"▲", "-")), 2) >= 0, ABS(ROUND(VALUE(SUBSTITUTE(連結実質赤字比率に係る赤字・黒字の構成分析!F$36,"▲", "-")), 2)), NA()) -> 0.15 | D34: =IF(ROUND(VALUE(SUBSTITUTE(連結実質赤字比率に係る赤字・黒字の構成分析!G$36,"▲", "-")), 2) < 0, ABS(ROUND(VALUE(SUBSTITUTE(連結実質赤字比率に係る赤字・黒字の構成分析!G$36,"▲", "-")), 2)), NA()) -> #N/A | E34: =IF(ROUND(VALUE(SUBSTITUTE(連結実質赤字比率に係る赤字・黒字の構成分析!G$36,"▲", "-")), 2) >= 0, ABS(ROUND(VALUE(SUBSTITUTE(連結実質赤字比率に係る赤字・黒字の構成分析!G$36,"▲", "-")), 2)), NA()) -> 0.32 | F34: =IF(ROUND(VALUE(SUBSTITUTE(連結実質赤字比率に係る赤字・黒字の構成分析!H$36,"▲", "-")), 2) < 0, ABS(ROUND(VALUE(SUBSTITUTE(連結実質赤字比率に係る赤字・黒字の構成分析!H$36,"▲", "-")), 2)), NA()) -> #N/A | G34: =IF(ROUND(VALUE(SUBSTITUTE(連結実質赤字比率に係る赤字・黒字の構成分析!H$36,"▲", "-")), 2) >= 0, ABS(ROUND(VALUE(SUBSTITUTE(連結実質赤字比率に係る赤字・黒字の構成分析!H$36,"▲", "-")), 2)), NA()) -> 0.12 | H34: =IF(ROUND(VALUE(SUBSTITUTE(連結実質赤字比率に係る赤字・黒字の構成分析!I$36,"▲", "-")), 2) < 0, ABS(ROUND(VALUE(SUBSTITUTE(連結実質赤字比率に係る赤字・黒字の構成分析!I$36,"▲", "-")), 2)), NA()) -> #N/A | I34: =IF(ROUND(VALUE(SUBSTITUTE(連結実質赤字比率に係る赤字・黒字の構成分析!I$36,"▲", "-")), 2) >= 0, ABS(ROUND(VALUE(SUBSTITUTE(連結実質赤字比率に係る赤字・黒字の構成分析!I$36,"▲", "-")), 2)), NA()) -> 0.32 | J34: =IF(ROUND(VALUE(SUBSTITUTE(連結実質赤字比率に係る赤字・黒字の構成分析!J$36,"▲", "-")), 2) < 0, ABS(ROUND(VALUE(SUBSTITUTE(連結実質赤字比率に係る赤字・黒字の構成分析!J$36,"▲", "-")), 2)), NA()) -> #N/A | K34: =IF(ROUND(VALUE(SUBSTITUTE(連結実質赤字比率に係る赤字・黒字の構成分析!J$36,"▲", "-")), 2) >= 0, ABS(ROUND(VALUE(SUBSTITUTE(連結実質赤字比率に係る赤字・黒字の構成分析!J$36,"▲", "-")), 2)), NA()) -> 0.34
A35: =IF(連結実質赤字比率に係る赤字・黒字の構成分析!C$35="",NA(),連結実質赤字比率に係る赤字・黒字の構成分析!C$35) -> 国民健康保険事業特別会計 | B35: =IF(ROUND(VALUE(SUBSTITUTE(連結実質赤字比率に係る赤字・黒字の構成分析!F$35,"▲", "-")), 2) < 0, ABS(ROUND(VALUE(SUBSTITUTE(連結実質赤字比率に係る赤字・黒字の構成分析!F$35,"▲", "-")), 2)), NA()) -> #N/A | C35: =IF(ROUND(VALUE(SUBSTITUTE(連結実質赤字比率に係る赤字・黒字の構成分析!F$35,"▲", "-")), 2) >= 0, ABS(ROUND(VALUE(SUBSTITUTE(連結実質赤字比率に係る赤字・黒字の構成分析!F$35,"▲", "-")), 2)), NA()) -> 1.15 | D35: =IF(ROUND(VALUE(SUBSTITUTE(連結実質赤字比率に係る赤字・黒字の構成分析!G$35,"▲", "-")), 2) < 0, ABS(ROUND(VALUE(SUBSTITUTE(連結実質赤字比率に係る赤字・黒字の構成分析!G$35,"▲", "-")), 2)), NA()) -> #N/A | E35: =IF(ROUND(VALUE(SUBSTITUTE(連結実質赤字比率に係る赤字・黒字の構成分析!G$35,"▲", "-")), 2) >= 0, ABS(ROUND(VALUE(SUBSTITUTE(連結実質赤字比率に係る赤字・黒字の構成分析!G$35,"▲", "-")), 2)), NA()) -> 0.24 | F35: =IF(ROUND(VALUE(SUBSTITUTE(連結実質赤字比率に係る赤字・黒字の構成分析!H$35,"▲", "-")), 2) < 0, ABS(ROUND(VALUE(SUBSTITUTE(連結実質赤字比率に係る赤字・黒字の構成分析!H$35,"▲", "-")), 2)), NA()) -> #N/A | G35: =IF(ROUND(VALUE(SUBSTITUTE(連結実質赤字比率に係る赤字・黒字の構成分析!H$35,"▲", "-")), 2) >= 0, ABS(ROUND(VALUE(SUBSTITUTE(連結実質赤字比率に係る赤字・黒字の構成分析!H$35,"▲", "-")), 2)), NA()) -> 0.7 | H35: =IF(ROUND(VALUE(SUBSTITUTE(連結実質赤字比率に係る赤字・黒字の構成分析!I$35,"▲", "-")), 2) < 0, ABS(ROUND(VALUE(SUBSTITUTE(連結実質赤字比率に係る赤字・黒字の構成分析!I$35,"▲", "-")), 2)), NA()) -> #N/A | I35: =IF(ROUND(VALUE(SUBSTITUTE(連結実質赤字比率に係る赤字・黒字の構成分析!I$35,"▲", "-")), 2) >= 0, ABS(ROUND(VALUE(SUBSTITUTE(連結実質赤字比率に係る赤字・黒字の構成分析!I$35,"▲", "-")), 2)), NA()) -> 1.87 | J35: =IF(ROUND(VALUE(SUBSTITUTE(連結実質赤字比率に係る赤字・黒字の構成分析!J$35,"▲", "-")), 2) < 0, ABS(ROUND(VALUE(SUBSTITUTE(連結実質赤字比率に係る赤字・黒字の構成分析!J$35,"▲", "-")), 2)), NA()) -> #N/A | K35: =IF(ROUND(VALUE(SUBSTITUTE(連結実質赤字比率に係る赤字・黒字の構成分析!J$35,"▲", "-")), 2) >= 0, ABS(ROUND(VALUE(SUBSTITUTE(連結実質赤字比率に係る赤字・黒字の構成分析!J$35,"▲", "-")), 2)), NA()) -> 1.89
A36: =IF(連結実質赤字比率に係る赤字・黒字の構成分析!C$34="",NA(),連結実質赤字比率に係る赤字・黒字の構成分析!C$34) -> 一般会計 | B36: =IF(ROUND(VALUE(SUBSTITUTE(連結実質赤字比率に係る赤字・黒字の構成分析!F$34,"▲", "-")), 2) < 0, ABS(ROUND(VALUE(SUBSTITUTE(連結実質赤字比率に係る赤字・黒字の構成分析!F$34,"▲", "-")), 2)), NA()) -> #N/A | C36: =IF(ROUND(VALUE(SUBSTITUTE(連結実質赤字比率に係る赤字・黒字の構成分析!F$34,"▲", "-")), 2) >= 0, ABS(ROUND(VALUE(SUBSTITUTE(連結実質赤字比率に係る赤字・黒字の構成分析!F$34,"▲", "-")), 2)), NA()) -> 2.18 | D36: =IF(ROUND(VALUE(SUBSTITUTE(連結実質赤字比率に係る赤字・黒字の構成分析!G$34,"▲", "-")), 2) < 0, ABS(ROUND(VALUE(SUBSTITUTE(連結実質赤字比率に係る赤字・黒字の構成分析!G$34,"▲", "-")), 2)), NA()) -> #N/A | E36: =IF(ROUND(VALUE(SUBSTITUTE(連結実質赤字比率に係る赤字・黒字の構成分析!G$34,"▲", "-")), 2) >= 0, ABS(ROUND(VALUE(SUBSTITUTE(連結実質赤字比率に係る赤字・黒字の構成分析!G$34,"▲", "-")), 2)), NA()) -> 4.88 | F36: =IF(ROUND(VALUE(SUBSTITUTE(連結実質赤字比率に係る赤字・黒字の構成分析!H$34,"▲", "-")), 2) < 0, ABS(ROUND(VALUE(SUBSTITUTE(連結実質赤字比率に係る赤字・黒字の構成分析!H$34,"▲", "-")), 2)), NA()) -> #N/A | G36: =IF(ROUND(VALUE(SUBSTITUTE(連結実質赤字比率に係る赤字・黒字の構成分析!H$34,"▲", "-")), 2) >= 0, ABS(ROUND(VALUE(SUBSTITUTE(連結実質赤字比率に係る赤字・黒字の構成分析!H$34,"▲", "-")), 2)), NA()) -> 2.27 | H36: =IF(ROUND(VALUE(SUBSTITUTE(連結実質赤字比率に係る赤字・黒字の構成分析!I$34,"▲", "-")), 2) < 0, ABS(ROUND(VALUE(SUBSTITUTE(連結実質赤字比率に係る赤字・黒字の構成分析!I$34,"▲", "-")), 2)), NA()) -> #N/A | I36: =IF(ROUND(VALUE(SUBSTITUTE(連結実質赤字比率に係る赤字・黒字の構成分析!I$34,"▲", "-")), 2) >= 0, ABS(ROUND(VALUE(SUBSTITUTE(連結実質赤字比率に係る赤字・黒字の構成分析!I$34,"▲", "-")), 2)), NA()) -> 2.71 | J36: =IF(ROUND(VALUE(SUBSTITUTE(連結実質赤字比率に係る赤字・黒字の構成分析!J$34,"▲", "-")), 2) < 0, ABS(ROUND(VALUE(SUBSTITUTE(連結実質赤字比率に係る赤字・黒字の構成分析!J$34,"▲", "-")), 2)), NA()) -> #N/A | K36: =IF(ROUND(VALUE(SUBSTITUTE(連結実質赤字比率に係る赤字・黒字の構成分析!J$34,"▲", "-")), 2) >= 0, ABS(ROUND(VALUE(SUBSTITUTE(連結実質赤字比率に係る赤字・黒字の構成分析!J$34,"▲", "-")), 2)), NA()) -> 3.5
A39: 実質公債費比率（分子）の構造
B40: ='実質公債費比率（分子）の構造'!K$44 -> H24 | E40: ='実質公債費比率（分子）の構造'!L$44 -> H25 | H40: ='実質公債費比率（分子）の構造'!M$44 -> H26 | K40: ='実質公債費比率（分子）の構造'!N$44 -> H27 | N40: ='実質公債費比率（分子）の構造'!O$44 -> H28
B41: 元利償還金等 | D41: 算入公債費等 | E41: 元利償還金等 | G41: 算入公債費等 | H41: 元利償還金等 | J41: 算入公債費等 | K41: 元利償還金等 | M41: 算入公債費等 | N41: 元利償還金等 | P41: 算入公債費等
A42: 算入公債費等 | D42: ='実質公債費比率（分子）の構造'!K$52 -> 419 | G42: ='実質公債費比率（分子）の構造'!L$52 -> 368 | J42: ='実質公債費比率（分子）の構造'!M$52 -> 369 | M42: ='実質公債費比率（分子）の構造'!N$52 -> 396 | P42: ='実質公債費比率（分子）の構造'!O$52 -> 405
A43: 一時借入金の利子 | B43: ='実質公債費比率（分子）の構造'!K$51 -> 1 | E43: ='実質公債費比率（分子）の構造'!L$51 -> 1 | H43: ='実質公債費比率（分子）の構造'!M$51 -> 0 | K43: ='実質公債費比率（分子）の構造'!N$51 -> - | N43: ='実質公債費比率（分子）の構造'!O$51 -> 0
A44: 債務負担行為に基づく支出額 | B44: ='実質公債費比率（分子）の構造'!K$50 -> - | E44: ='実質公債費比率（分子）の構造'!L$50 -> - | H44: ='実質公債費比率（分子）の構造'!M$50 -> - | K44: ='実質公債費比率（分子）の構造'!N$50 -> - | N44: ='実質公債費比率（分子）の構造'!O$50 -> -
A45: 組合等が起こした地方債の元利償還金に対する負担金等 | B45: ='実質公債費比率（分子）の構造'!K$49 -> 35 | E45: ='実質公債費比率（分子）の構造'!L$49 -> 35 | H45: ='実質公債費比率（分子）の構造'!M$49 -> 35 | K45: ='実質公債費比率（分子）の構造'!N$49 -> 35 | N45: ='実質公債費比率（分子）の構造'!O$49 -> 33
A46: 公営企業債の元利償還金に対する繰入金 | B46: ='実質公債費比率（分子）の構造'!K$48 -> 7 | E46: ='実質公債費比率（分子）の構造'!L$48 -> 7 | H46: ='実質公債費比率（分子）の構造'!M$48 -> 7 | K46: ='実質公債費比率（分子）の構造'!N$48 -> 12 | N46: ='実質公債費比率（分子）の構造'!O$48 -> 10
A47: 満期一括償還地方債に係る年度割相当額 | B47: ='実質公債費比率（分子）の構造'!K$47 -> - | E47: ='実質公債費比率（分子）の構造'!L$47 -> - | H47: ='実質公債費比率（分子）の構造'!M$47 -> - | K47: ='実質公債費比率（分子）の構造'!N$47 -> - | N47: ='実質公債費比率（分子）の構造'!O$47 -> -
...
