Workbook

Sheet 総括表
B1: 平成30年度 財政状況資料集
B2: 総括表（市町村）
B3: 都道府県名 | L3: 高知県 | W3: 市町村類型 | AC3: Ⅰ－０ | AM3: 指定団体等の指定状況 | AY3: 区分 | BN3: 平成30年度(千円) | BV3: 平成29年度(千円) | CD3: 区分 | CT3: 平成30年度(千円･％) | DB3: 平成29年度(千円･％)
AY4: 歳入総額 | BN4: 11092970 | BV4: 11339328 | CD4: 実質収支比率 | CT4: 4.8 | DB4: 3.6
AM5: 財政健全化等 | AU5: × | AY5: 歳出総額 | BN5: 10948734 | BV5: 10827764 | CD5: 経常収支比率 | CT5: 81.6 | DB5: 84.7
B6: 市町村名 | L6: 奈半利町 | W6: 地方交付税種地 | AC6: 2-2 | AM6: 財源超過 | AU6: × | AY6: 歳入歳出差引 | BN6: 144236 | BV6: 511564 | CD6: (※1) | CT6: 84.9 | DB6: 88.1
AM7: 首都 | AU7: × | AY7: 翌年度に繰越すべき財源 | BN7: 67213 | BV7: 453364 | CD7: 標準財政規模 | CT7: 1610654 | DB7: 1615463
AM8: 近畿 | AU8: × | AY8: 実質収支 | BN8: 77023 | BV8: 58200 | CD8: 財政力指数 | CT8: 0.2 | DB8: 0.19
B9: 人口 | L9: 27年国調(人) | R9: 3326 | W9: 産業構造 (※5) | AM9: 中部 | AU9: × | AY9: 単年度収支 | BN9: 18823 | BV9: 248 | CD9: 公債費負担比率 | CT9: 11.7 | DB9: 21.6
L10: 22年国調(人) | R10: 3542 | AM10: 過疎 | AU10: ○ | AY10: 積立金 | BN10: 377 | BV10: 209624 | CD10: 健全化判断比率
L11: 増減率 (％) | R11: -6.1 | AM11: 山振 | AU11: × | AY11: 繰上償還金 | BN11: 0 | BV11: 294623 | CD11: 実質赤字比率 | CT11: - | DB11: -
B12: 住民基本台帳人口 (※7) | L12: 31.01.01(人) | R12: 3228 | W12: 区分 | AC12: 27年国調 | AH12: 22年国調 | AM12: 低開発 | AU12: × | AY12: 積立金取崩し額 | BN12: 0 | BV12: 0 | CD12: 連結実質赤字比率 | CT12: - | DB12: -
M13: うち日本人(人) | R13: 3216 | W13: 第1次 | AC13: 261 | AH13: 282 | AM13: 指数表選定 | AU13: ○ | AY13: 実質単年度収支 | BN13: 19200 | BV13: 504495 | CD13: 実質公債費比率 | CT13: 1.4 | DB13: 0.6
L14: 30.01.01(人) | R14: 3271 | AC14: 19 | AH14: 19.6 | CD14: 将来負担比率 | CT14: - | DB14: -
M15: うち日本人(人) | R15: 3260 | W15: 第2次 | AC15: 238 | AH15: 255 | AY15: 基準財政収入額 | BN15: 291641 | BV15: 290620 | CD15: 資金不足比率 (※4)
L16: 増減率 (％) | R16: -1.3 | AC16: 17.3 | AH16: 17.7 | AY16: 基準財政需要額 | BN16: 1470192 | BV16: 1476305
M17: うち日本人(％) | R17: -1.3 | W17: 第3次 | AC17: 876 | AH17: 902 | AY17: 標準税収入額等 | BN17: 369297 | BV17: 367505
B18: 面積 (k㎡) | L18: 28.37 | AC18: 63.7 | AH18: 62.7 | AY18: 経常経費充当一般財源等 | BN18: 1332514 | BV18: 1381564
B19: 人口密度 (人/k㎡) | L19: 117 | AY19: 歳入一般財源等 | BN19: 1959321 | BV19: 2602191
B20: 世帯数 (世帯) | L20: 1474
B21: 職員の状況
B22: 特別職等 | E22: 区分 | L22: 定数 | Q22: 1人あたり平均 給料月額(百円) | W22: 一般職員等(※6) | Z22: 区分 | AH22: 職員数 (人) | AM22: 給料月額 (百円) | AS22: 1人あたり平均 給料月額(百円)
AY23: 地方債現在高 | BN23: 3177288 | BV23: 3120054
E24: 市区町村長 | L24: 1 | Q24: 7030 | Z24: 一般職員 | AH24: 52 | AM24: 153868 | AS24: 2959 | AY24: うち公的資金 | BN24: 3155688 | BV24: 3106054
E25: 副市区町村長 | L25: 1 | Q25: 6130 | Z25: うち消防職員 | AH25: - | AM25: - | AS25: - | AY25: 債務負担行為額（支出予定額） | BN25: 2559 | BV25: 4586
E26: 教育長 | L26: 1 | Q26: 5620 | Z26: うち技能労務職員 | AH26: 4 | AM26: 12264 | AS26: 3066 | AY26: 収益事業収入 | BN26: - | BV26: -
E27: 議会議長 | L27: 1 | Q27: 2330 | Z27: 教育公務員 | AH27: 6 | AM27: 17250 | AS27: 2875 | AY27: 土地開発基金現在高 | BN27: 437324 | BV27: 437075
E28: 議会副議長 | L28: 1 | Q28: 1900 | Z28: 臨時職員 | AH28: - | AM28: - | AS28: - | AY28: 積立金 現在高 | BC28: 財政調整基金 | BN28: 866778 | BV28: 866401
E29: 議会議員 | L29: 8 | Q29: 1640 | Z29: 合計 | AH29: 58 | AM29: 171118 | AS29: 2950 | BC29: 減債基金 | BN29: 491576 | BV29: 170730
W30: ラスパイレス指数 | AH30: 97.1 | BC30: その他特定目的基金 | BN30: 3396150 | BV30: 3384703
C32: 一般会計等の一覧 | U32: 事業会計の一覧 | AM32: 公営企業（法適）の一覧 | BE32: 公営企業（法非適）の一覧 | BW32: 関係する一部事務組合等一覧 | CO32: 地方公社・第三セクター等一覧
C33: 項番 | E33: 会計名 | U33: 項番 | W33: 会計名 | AM33: 項番 | AO33: 会計名 | BE33: 項番 | BG33: 会計名 | BW33: 項番 | BY33: 組合等名 | CO33: 項番 | CQ33: 団体名 | DG33: (※3)
C34: =IF(E34="","",1) -> 1 | E34: =IF('各会計、関係団体の財政状況及び健全化判断比率'!B7="","",'各会計、関係団体の財政状況及び健全化判断比率'!B7) -> 一般会計 | U34: =IF(W34="","",MAX(C34:D43)+1) -> 2 | W34: =IF('各会計、関係団体の財政状況及び健全化判断比率'!B28="","",'各会計、関係団体の財政状況及び健全化判断比率'!B28) -> 国民健康保険事業特別会計 | AM34: =IF(AO34="","",MAX(C34:D43,U34:V43)+1) | BE34: =IF(BG34="","",MAX(C34:D43,U34:V43,AM34:AN43)+1) -> 4 | BG34: =IF('各会計、関係団体の財政状況及び健全化判断比率'!B30="","",'各会計、関係団体の財政状況及び健全化判断比率'!B30) -> 簡易水道事業特別会計 | BW34: =IF(BY34="","",MAX(C34:D43,U34:V43,AM34:AN43,BE34:BF43)+1) -> 6 | BY34: =IF('各会計、関係団体の財政状況及び健全化判断比率'!B68="","",'各会計、関係団体の財政状況及び健全化判断比率'!B68) -> 安芸広域市町村圏特別養護老人ホーム事務組合 | CO34: =IF(CQ34="","",MAX(C34:D43,U34:V43,AM34:AN43,BE34:BF43,BW34:BX43)+1) -> 16 | CQ34: =IF('各会計、関係団体の財政状況及び健全化判断比率'!BS7="","",'各会計、関係団体の財政状況及び健全化判断比率'!BS7) -> 中芸介護公社 | DG34: =IF('各会計、関係団体の財政状況及び健全化判断比率'!BR7="","",'各会計、関係団体の財政状況及び健全化判断比率'!BR7)
C35: =IF(E35="","",C34+1) | E35: =IF('各会計、関係団体の財政状況及び健全化判断比率'!B8="","",'各会計、関係団体の財政状況及び健全化判断比率'!B8) | U35: =IF(W35="","",U34+1) -> 3 | W35: =IF('各会計、関係団体の財政状況及び健全化判断比率'!B29="","",'各会計、関係団体の財政状況及び健全化判断比率'!B29) -> 後期高齢者医療特別会計 | AM35: =IF(AO35="","",AM34+1) | BE35: =IF(BG35="","",BE34+1) -> 5 | BG35: =IF('各会計、関係団体の財政状況及び健全化判断比率'!B31="","",'各会計、関係団体の財政状況及び健全化判断比率'!B31) -> 漁業集落排水事業特別会計 | BW35: =IF(BY35="","",BW34+1) -> 7 | BY35: =IF('各会計、関係団体の財政状況及び健全化判断比率'!B69="","",'各会計、関係団体の財政状況及び健全化判断比率'!B69) -> 高知県広域食肉センター事務組合 | CO35: =IF(CQ35="","",CO34+1) -> 17 | CQ35: =IF('各会計、関係団体の財政状況及び健全化判断比率'!BS8="","",'各会計、関係団体の財政状況及び健全化判断比率'!BS8) -> なはりの郷 | DG35: =IF('各会計、関係団体の財政状況及び健全化判断比率'!BR8="","",'各会計、関係団体の財政状況及び健全化判断比率'!BR8)
C36: =IF(E36="","",C35+1) | E36: =IF('各会計、関係団体の財政状況及び健全化判断比率'!B9="","",'各会計、関係団体の財政状況及び健全化判断比率'!B9) | U36: =IF(W36="","",U35+1) | AM36: =IF(AO36="","",AM35+1) | BE36: =IF(BG36="","",BE35+1) | BW36: =IF(BY36="","",BW35+1) -> 8 | BY36: =IF('各会計、関係団体の財政状況及び健全化判断比率'!B70="","",'各会計、関係団体の財政状況及び健全化判断比率'!B70) -> 安芸広域市町村圏事務組合 | CO36: =IF(CQ36="","",CO35+1) | CQ36: =IF('各会計、関係団体の財政状況及び健全化判断比率'!BS9="","",'各会計、関係団体の財政状況及び健全化判断比率'!BS9) | DG36: =IF('各会計、関係団体の財政状況及び健全化判断比率'!BR9="","",'各会計、関係団体の財政状況及び健全化判断比率'!BR9)
C37: =IF(E37="","",C36+1) | E37: =IF('各会計、関係団体の財政状況及び健全化判断比率'!B10="","",'各会計、関係団体の財政状況及び健全化判断比率'!B10) | U37: =IF(W37="","",U36+1) | AM37: =IF(AO37="","",AM36+1) | BE37: =IF(BG37="","",BE36+1) | BW37: =IF(BY37="","",BW36+1) -> 9 | BY37: =IF('各会計、関係団体の財政状況及び健全化判断比率'!B71="","",'各会計、関係団体の財政状況及び健全化判断比率'!B71) -> 安芸広域市町村圏事務組合（滞納整理事務特別会計） | CO37: =IF(CQ37="","",CO36+1) | CQ37: =IF('各会計、関係団体の財政状況及び健全化判断比率'!BS10="","",'各会計、関係団体の財政状況及び健全化判断比率'!BS10) | DG37: =IF('各会計、関係団体の財政状況及び健全化判断比率'!BR10="","",'各会計、関係団体の財政状況及び健全化判断比率'!BR10)
C38: =IF(E38="","",C37+1) | E38: =IF('各会計、関係団体の財政状況及び健全化判断比率'!B11="","",'各会計、関係団体の財政状況及び健全化判断比率'!B11) | U38: =IF(W38="","",U37+1) | AM38: =IF(AO38="","",AM37+1) | BE38: =IF(BG38="","",BE37+1) | BW38: =IF(BY38="","",BW37+1) -> 10 | BY38: =IF('各会計、関係団体の財政状況及び健全化判断比率'!B72="","",'各会計、関係団体の財政状況及び健全化判断比率'!B72) -> 中芸広域連合 | CO38: =IF(CQ38="","",CO37+1) | CQ38: =IF('各会計、関係団体の財政状況及び健全化判断比率'!BS11="","",'各会計、関係団体の財政状況及び健全化判断比率'!BS11) | DG38: =IF('各会計、関係団体の財政状況及び健全化判断比率'!BR11="","",'各会計、関係団体の財政状況及び健全化判断比率'!BR11)
C39: =IF(E39="","",C38+1) | E39: =IF('各会計、関係団体の財政状況及び健全化判断比率'!B12="","",'各会計、関係団体の財政状況及び健全化判断比率'!B12) | U39: =IF(W39="","",U38+1) | AM39: =IF(AO39="","",AM38+1) | BE39: =IF(BG39="","",BE38+1) | BW39: =IF(BY39="","",BW38+1) -> 11 | BY39: =IF('各会計、関係団体の財政状況及び健全化判断比率'!B73="","",'各会計、関係団体の財政状況及び健全化判断比率'!B73) -> 中芸広域連合（介護保険事業特別会計） | CO39: =IF(CQ39="","",CO38+1) | CQ39: =IF('各会計、関係団体の財政状況及び健全化判断比率'!BS12="","",'各会計、関係団体の財政状況及び健全化判断比率'!BS12) | DG39: =IF('各会計、関係団体の財政状況及び健全化判断比率'!BR12="","",'各会計、関係団体の財政状況及び健全化判断比率'!BR12)
C40: =IF(E40="","",C39+1) | E40: =IF('各会計、関係団体の財政状況及び健全化判断比率'!B13="","",'各会計、関係団体の財政状況及び健全化判断比率'!B13) | U40: =IF(W40="","",U39+1) | AM40: =IF(AO40="","",AM39+1) | BE40: =IF(BG40="","",BE39+1) | BW40: =IF(BY40="","",BW39+1) -> 12 | BY40: =IF('各会計、関係団体の財政状況及び健全化判断比率'!B74="","",'各会計、関係団体の財政状況及び健全化判断比率'!B74) -> こうち人づくり広域連合 | CO40: =IF(CQ40="","",CO39+1) | CQ40: =IF('各会計、関係団体の財政状況及び健全化判断比率'!BS13="","",'各会計、関係団体の財政状況及び健全化判断比率'!BS13) | DG40: =IF('各会計、関係団体の財政状況及び健全化判断比率'!BR13="","",'各会計、関係団体の財政状況及び健全化判断比率'!BR13)
C41: =IF(E41="","",C40+1) | E41: =IF('各会計、関係団体の財政状況及び健全化判断比率'!B14="","",'各会計、関係団体の財政状況及び健全化判断比率'!B14) | U41: =IF(W41="","",U40+1) | AM41: =IF(AO41="","",AM40+1) | BE41: =IF(BG41="","",BE40+1) | BW41: =IF(BY41="","",BW40+1) -> 13 | BY41: =IF('各会計、関係団体の財政状況及び健全化判断比率'!B75="","",'各会計、関係団体の財政状況及び健全化判断比率'!B75) -> 高知県市町村総合事務組合 | CO41: =IF(CQ41="","",CO40+1) | CQ41: =IF('各会計、関係団体の財政状況及び健全化判断比率'!BS14="","",'各会計、関係団体の財政状況及び健全化判断比率'!BS14) | DG41: =IF('各会計、関係団体の財政状況及び健全化判断比率'!BR14="","",'各会計、関係団体の財政状況及び健全化判断比率'!BR14)
...

Sheet 普通会計の状況
DH1: 平成30年度 | DP1: 高知県奈半利町
B2: (1) 普通会計の状況（市町村）
B3: 歳入の状況（単位 千円・％） | AP3: 地方税の状況（単位 千円・％） | CD3: 歳出の状況（単位 千円・％）
B4: 区分 | R4: 決算額 | Z4: 構成比 | AD4: 経常一般財源等 | AL4: 構成比 | AP4: 区分 | BG4: 収入済額 | BO4: 構成比 | BS4: 超過課税分 | CD4: 目的別歳出の状況（単位 千円・％）
B5: 地方税 | R5: 303834 | Z5: 2.7 | AD5: 303834 | AL5: 19.4 | AP5: 普通税 | BG5: 303834 | BO5: 100 | BS5: - | CD5: 区分 | CR5: 決算額 (A) | CZ5: 構成比 | DD5: (A)のうち普通建設事業費 | DQ5: (A)のうち充当一般財源等
B6: 地方譲与税 | R6: 18951 | Z6: 0.2 | AD6: 18951 | AL6: 1.2 | AP6: 法定普通税 | BG6: 303834 | BO6: 100 | BS6: - | CD6: 議会費 | CR6: 48238 | CZ6: 0.4 | DD6: - | DQ6: 48238
B7: 利子割交付金 | R7: 813 | Z7: 0 | AD7: 813 | AL7: 0.1 | AP7: 市町村民税 | BG7: 132394 | BO7: 43.6 | BS7: - | CD7: 総務費 | CR7: 8688110 | CZ7: 79.4 | DD7: 24197 | DQ7: 624645
B8: 配当割交付金 | R8: 788 | Z8: 0 | AD8: 788 | AL8: 0.1 | AP8: 個人均等割 | BG8: 4637 | BO8: 1.5 | BS8: - | CD8: 民生費 | CR8: 527146 | CZ8: 4.8 | DD8: - | DQ8: 359698
B9: 株式等譲渡所得割交付金 | R9: 716 | Z9: 0 | AD9: 716 | AL9: 0 | AP9: 所得割 | BG9: 101378 | BO9: 33.4 | BS9: - | CD9: 衛生費 | CR9: 264585 | CZ9: 2.4 | DD9: 28132 | DQ9: 176897
B10: 分離課税所得割交付金 | R10: - | Z10: - | AD10: - | AL10: - | AP10: 法人均等割 | BG10: 7618 | BO10: 2.5 | BS10: - | CD10: 労働費 | CR10: - | CZ10: - | DD10: - | DQ10: -
B11: 道府県民税所得割臨時交付金 | R11: - | Z11: - | AD11: - | AL11: - | AP11: 法人税割 | BG11: 18761 | BO11: 6.2 | BS11: - | CD11: 農林水産業費 | CR11: 161029 | CZ11: 1.5 | DD11: 70733 | DQ11: 42915
B12: 地方消費税交付金 | R12: 59081 | Z12: 0.5 | AD12: 59081 | AL12: 3.8 | AP12: 固定資産税 | BG12: 124690 | BO12: 41 | BS12: - | CD12: 商工費 | CR12: 33259 | CZ12: 0.3 | DD12: 9388 | DQ12: 7134
B13: ゴルフ場利用税交付金 | R13: - | Z13: - | AD13: - | AL13: - | AP13: うち純固定資産税 | BG13: 121585 | BO13: 40 | BS13: - | CD13: 土木費 | CR13: 339595 | CZ13: 3.1 | DD13: 298422 | DQ13: 31674
B14: 特別地方消費税交付金 | R14: - | Z14: - | AD14: - | AL14: - | AP14: 軽自動車税 | BG14: 12787 | BO14: 4.2 | BS14: - | CD14: 消防費 | CR14: 218206 | CZ14: 2 | DD14: 71710 | DQ14: 129874
B15: 自動車取得税交付金 | R15: 3717 | Z15: 0 | AD15: 3717 | AL15: 0.2 | AP15: 市町村たばこ税 | BG15: 33963 | BO15: 11.2 | BS15: - | CD15: 教育費 | CR15: 421084 | CZ15: 3.8 | DD15: 13295 | DQ15: 153917
B16: 軽油引取税交付金 | R16: - | Z16: - | AD16: - | AL16: - | AP16: 鉱産税 | BG16: - | BO16: - | BS16: - | CD16: 災害復旧費 | CR16: 14848 | CZ16: 0.1 | DD16: - | DQ16: 11566
B17: 地方特例交付金 | R17: 845 | Z17: 0 | AD17: 845 | AL17: 0.1 | AP17: 特別土地保有税 | BG17: - | BO17: - | BS17: - | CD17: 公債費 | CR17: 232634 | CZ17: 2.1 | DD17: - | DQ17: 228527
B18: 地方交付税 | R18: 1304604 | Z18: 11.8 | AD18: 1178178 | AL18: 75.1 | AP18: 法定外普通税 | BG18: - | BO18: - | BS18: - | CD18: 諸支出金 | CR18: - | CZ18: - | DD18: - | DQ18: -
B19: 普通交付税 | R19: 1178178 | Z19: 10.6 | AD19: 1178178 | AL19: 75.1 | AP19: 目的税 | BG19: - | BO19: - | BS19: - | CD19: 前年度繰上充用金 | CR19: - | CZ19: - | DD19: - | DQ19: -
B20: 特別交付税 | R20: 126426 | Z20: 1.1 | AD20: - | AL20: - | AP20: 法定目的税 | BG20: - | BO20: - | BS20: - | CD20: 歳出合計 | CR20: 10948734 | CZ20: 100 | DD20: 515877 | DQ20: 1815085
B21: 震災復興特別交付税 | R21: - | Z21: - | AD21: - | AL21: - | AP21: 入湯税 | BG21: - | BO21: - | BS21: -
B22: (一般財源計) | R22: 1693349 | Z22: 15.3 | AD22: 1566923 | AL22: 99.9 | AP22: 事業所税 | BG22: - | BO22: - | BS22: - | CD22: 性質別歳出の状況（単位 千円・％）
B23: 交通安全対策特別交付金 | R23: - | Z23: - | AD23: - | AL23: - | AP23: 都市計画税 | BG23: - | BO23: - | BS23: - | CD23: 区分 | CR23: 決算額 | CZ23: 構成比 | DD23: 充当一般財源等 | DL23: 経常経費充当一般財源等 | DW23: 経常収支比率
B24: 分担金・負担金 | R24: 69019 | Z24: 0.6 | AD24: - | AL24: - | AP24: 水利地益税等 | BG24: - | BO24: - | BS24: - | CD24: 義務的経費計 | CR24: 818814 | CZ24: 7.5 | DD24: 658338 | DL24: 646601 | DW24: 39.6
B25: 使用料 | R25: 57086 | Z25: 0.5 | AD25: 530 | AL25: 0 | AP25: 法定外目的税 | BG25: - | BO25: - | BS25: - | CD25: 人件費 | CR25: 480114 | CZ25: 4.4 | DD25: 392466 | DL25: 380729 | DW25: 23.3
B26: 手数料 | R26: 3587 | Z26: 0 | AD26: - | AL26: - | AP26: 旧法による税 | BG26: - | BO26: - | BS26: - | CD26: うち職員給 | CR26: 282525 | CZ26: 2.6 | DD26: 222099 | DL26: - | DW26: -
B27: 国庫支出金 | R27: 182456 | Z27: 1.6 | AD27: - | AL27: - | AP27: 合計 | BG27: 303834 | BO27: 100 | BS27: - | CD27: 扶助費 | CR27: 106066 | CZ27: 1 | DD27: 37345 | DL27: 37345 | DW27: 2.3
B28: 国有提供交付金(特別区財調交付金) | R28: - | Z28: - | AD28: - | AL28: - | CD28: 公債費 | CR28: 232634 | CZ28: 2.1 | DD28: 228527 | DL28: 228527 | DW28: 14
B29: 都道府県支出金 | R29: 179199 | Z29: 1.6 | AD29: - | AL29: - | AP29: 区分 | BG29: 平成30年度 | BR29: 平成29年度 | CD29: 内訳 | CF29: 元利償還金 | CR29: 232415 | CZ29: 2.1 | DD29: 228308 | DL29: 228308 | DW29: 14
B30: 財産収入 | R30: 6301 | Z30: 0.1 | AD30: 1320 | AL30: 0.1 | AP30: 徴収率 (％) | AT30: 現年 | AX30: 合計 | BG30: 98.6 | BM30: 96.1 | BR30: 98.8 | BX30: 96.4 | CF30: うち元金 | CR30: 217745 | CZ30: 2 | DD30: 216219 | DL30: 216219 | DW30: 13.2
B31: 寄附金 | R31: 3968892 | Z31: 35.8 | AD31: - | AL31: - | AU31: ・計 | AX31: 市町村民税 | BG31: 98.7 | BM31: 98 | BR31: 99.3 | BX31: 97.8 | CF31: うち利子 | CR31: 14670 | CZ31: 0.1 | DD31: 12089 | DL31: 12089 | DW31: 0.7
B32: 繰入金 | R32: 4115285 | Z32: 37.1 | AD32: - | AL32: - | AX32: 純固定資産税 | BG32: 98.5 | BM32: 93.8 | BR32: 98.4 | BX32: 94.8 | CF32: 一時借入金利子 | CR32: 219 | CZ32: 0 | DD32: 219 | DL32: 219 | DW32: 0
B33: 繰越金 | R33: 511564 | Z33: 4.6 | AD33: - | AL33: - | CD33: その他の経費 | CR33: 9599195 | CZ33: 87.7 | DD33: 1093676 | DL33: 685913 | DW33: 42
B34: 諸収入 | R34: 31253 | Z34: 0.3 | AD34: 392 | AL34: 0 | AQ34: 公営事業等への繰出 | BG34: 国民健康保険事業会計の状況 | CD34: 物件費 | CR34: 2651053 | CZ34: 24.2 | DD34: 210739 | DL34: 194482 | DW34: 11.9
B35: 地方債 | R35: 274979 | Z35: 2.5 | AD35: - | AL35: - | AQ35: 合計 | AZ35: 213752 | BG35: 実質収支 | BV35: 6795 | CD35: 維持補修費 | CR35: 51680 | CZ35: 0.5 | DD35: 31591 | DL35: 31591 | DW35: 1.9
B36: うち減収補塡債(特例分) | R36: - | Z36: - | AD36: - | AL36: - | AQ36: 簡易水道 | AZ36: 29169 | BG36: 再差引収支 | BV36: -5437 | CD36: 補助費等 | CR36: 2231855 | CZ36: 20.4 | DD36: 369445 | DL36: 332611 | DW36: 20.4
B37: うち臨時財政対策債 | R37: 63179 | Z37: 0.6 | AD37: - | AL37: - | AQ37: 下水道 | AZ37: 22574 | BG37: 加入世帯数(世帯) | BV37: 593 | CD37: うち一部事務組合負担金 | CR37: 361240 | CZ37: 3.3 | DD37: 326772 | DL37: 293711 | DW37: 18
B38: 歳入合計 | R38: 11092970 | Z38: 100 | AD38: 1569165 | AL38: 100 | AQ38: 介護サービス | AZ38: 723 | BG38: 被保険者数(人) | BV38: 934 | CD38: 繰出金 | CR38: 213752 | CZ38: 2 | DD38: 158287 | DL38: 126329 | DW38: 7.7
AQ39: 上水道 | AZ39: - | BG39: 被保険者 1人当り | BM39: 保険税(料)収入額 | BV39: 89 | CD39: 積立金 | CR39: 4447955 | CZ39: 40.6 | DD39: 320714 | DL39: - | DW39: -
AQ40: 国民健康保険 | AZ40: 59381 | BM40: 国庫支出金 | BV40: - | CD40: 投資・出資金・貸付金 | CR40: 2900 | CZ40: 0 | DD40: 2900 | DL40: 900 | DW40: 0.1
...

Sheet 各会計、関係団体の財政状況及び健全化判断比率
A2: (2)各会計、関係団体の財政状況及び健全化判断比率（市町村） | DJ2: 平成30年度 | DQ2: 高知県奈半利町
A4: 一般会計等の財政状況（単位：百万円） | BQ4: 地方公社・第三セクター等の経営状況及び地方公共団体の財政的支援の状況（単位：百万円）
A5: 会計名 | Q5: 歳入 | V5: 歳出 | AA5: 形式収支 | AF5: 実質収支 | AK5: 他会計等 からの 繰入金 | AP5: 地方債 現在高 | AU5: 備考 | BQ5: 地方公社・第三セクター等名 | CH5: 経常損益 | CM5: 純資産又は 正味財産 | CR5: 当該団体 からの 出資金 | CW5: 当該団体 からの 補助金 | DB5: 当該団体 からの 貸付金 | DG5: 当該団体からの債務保証に係る債務残高 | DL5: 当該団体からの損失補償に係る債務残高 | DQ5: 一般会計等 負担見込額 | DV5: 備考
A7: 1 | B7: 一般会計 | Q7: 11093 | V7: 10949 | AA7: 144 | AF7: 77 | AK7: 4115 | AP7: 3177 | BQ7: 1 | BS7: 中芸介護公社 | CH7: -13 | CM7: 984 | CR7: 149 | CW7: 3 | DB7: - | DG7: - | DL7: - | DQ7: -
A8: 2 | BQ8: 2 | BS8: なはりの郷 | CH8: 41 | CM8: 103 | CR8: 20 | CW8: 30 | DB8: - | DG8: - | DL8: - | DQ8: -
A9: 3 | BQ9: 3
A10: 4 | BQ10: 4
A11: 5 | BQ11: 5
A12: 6 | BQ12: 6
A13: 7 | BQ13: 7
A14: 8 | BQ14: 8
A15: 9 | BQ15: 9
A16: 10 | BQ16: 10
A17: 11 | BQ17: 11
A18: 12 | BQ18: 12
A19: 13 | BQ19: 13
A20: 14 | BQ20: 14
A21: 15 | BQ21: 15
A22: 16 | AZ22: 実質赤字額 | BQ22: 16
A23: 計 | B23: 一般会計等（純計） | Q23: =SUM(Q7:U22) -> 11093 | V23: =SUM(V7:Z22) -> 10949 | AA23: =SUM(AA7:AE22) -> 144 | AF23: 77 | AP23: =SUM(AP7:AT22) -> 3177 | AZ23: - | BQ23: 17
A24: ※一般会計等（純計）は、各会計の相互間の繰入・繰出等の重複を控除したものであり、各会計の合計と一致しない場合がある。 | BQ24: 18
A25: 公営企業会計等の財政状況（単位：百万円） | BQ25: 19
A26: 会計名 | Q26: 総収益 （歳入） | V26: 総費用 （歳出） | AA26: 純損益 （形式収支） | AF26: 資金剰余額 /不足額 （実質収支） | AK26: 他会計等 からの 繰入金 | AP26: 企業債 （地方債） 現在高 | AU26: 左のうち 一般会計等 繰入見込額 | AZ26: 資金不足 比率 | BE26: 備考 | BQ26: 20
BQ27: 21
A28: 1 | B28: 国民健康保険事業特別会計 | Q28: 556 | V28: 549 | AA28: =Q28-V28 -> 7 | AF28: 7 | AK28: 58 | AP28: - | AU28: - | AZ28: - | BQ28: 22
A29: 2 | B29: 後期高齢者医療特別会計 | Q29: 66 | V29: 64 | AA29: =Q29-V29 -> 2 | AF29: 2 | AK29: 21 | AP29: - | AU29: - | AZ29: - | BQ29: 23
A30: 3 | B30: 簡易水道事業特別会計 | Q30: 224 | V30: 220 | AA30: =Q30-V30 -> 4 | AF30: 4 | AK30: 96 | AP30: 780 | AU30: 307 | AZ30: - | BE30: 法非適用企業 | BQ30: 24
A31: 4 | B31: 漁業集落排水事業特別会計 | Q31: 30 | V31: 28 | AA31: =Q31-V31 -> 2 | AF31: 2 | AK31: 23 | AP31: 43 | AU31: 41 | AZ31: - | BE31: 法非適用企業 | BQ31: 25
A32: 5 | BQ32: 26
A33: 6 | BQ33: 27
A34: 7 | BQ34: 28
A35: 8 | BQ35: 29
A36: 9 | BQ36: 30
A37: 10 | BQ37: 31
A38: 11 | BQ38: 32
A39: 12 | BQ39: 33
A40: 13 | BQ40: 34
A41: 14 | BQ41: 35
A42: 15 | BQ42: 36
A43: 16 | BQ43: 37
...

Sheet 財政比較分析表

Sheet 経常経費分析表（経常収支比率の分析）

Sheet 経常経費分析表（人件費・公債費・普通建設事業費の分析）
A5: 人件費及び人件費に準ずる費用の分析
AK6: 人件費及び人件費に準ずる費用
AO7: 当該団体決算額 （千円） | AQ7: 人口1人当たり決算額
AP8: 当該団体（円） | AQ8: 類似団体平均（円） | AR8: 対比（％）
AK9: 人件費 | AO9: 480114 | AP9: 148734 | AQ9: 190701 | AR9: -22
AK10: 賃金（物件費） | AO10: 66092 | AP10: 20475 | AQ10: 22807 | AR10: -10.2
AK11: 一部事務組合負担金（補助費等） | AO11: 100988 | AP11: 31285 | AQ11: 29822 | AR11: 4.9
AK12: 公営企業（法適）等に対する繰出し（補助費等） | AO12: - | AP12: - | AQ12: 3258 | AR12: -
AK13: 公営企業（法適）等に対する繰出し（投資及び出資金・貸付金） | AO13: - | AP13: - | AQ13: 24 | AR13: -
AK14: 公営企業（法非適）等に対する繰出し（繰出金） | AO14: 16260 | AP14: 5037 | AQ14: 10094 | AR14: -50.1
AK15: 事業費支弁に係る職員の人件費（投資的経費） | AO15: 9860 | AP15: 3055 | AQ15: 4017 | AR15: -23.9
AK16: ▲退職金 | AO16: -46100 | AP16: -14281 | AQ16: -17771 | AR16: -19.6
AK17: 合計 | AO17: 627214 | AP17: 194304 | AQ17: 242952 | AR17: -20
AK19: 参考
AO20: 当該団体 | AP20: 類似団体平均 | AQ20: 対比（差引）
AK21: 人口1,000人当たり職員数（人） | AO21: 17.97 | AP21: 21.84 | AQ21: -3.87
AK22: ラスパイレス指数 | AO22: 97.1 | AP22: 95.6 | AQ22: 1.5
A26: （注）人口については、各調査対象年度の1月1日現在の住民基本台帳に登載されている人口に基づいている。
A28: 公債費及び公債費に準ずる費用の分析
AK29: 公債費及び公債費に準ずる費用（実質公債費比率の構成要素）
AO30: 当該団体決算額 （千円） | AQ30: 人口1人当たり決算額
AP31: 当該団体（円） | AQ31: 類似団体平均（円） | AR31: 対比（％）
AK32: 元利償還金の額 （繰上償還額等を除く） | AO32: 232415 | AP32: 72000 | AQ32: 136235 | AR32: -47.2
AK33: 積立不足額を考慮して算定した額 | AO33: - | AP33: - | AQ33: - | AR33: -
AK34: 満期一括償還地方債の一年当たりの元金償還金に相当するもの （年度割相当額） | AO34: - | AP34: - | AQ34: 5 | AR34: -
AK35: 公営企業に要する経費の財源とする地方債の償還の財源に 充てたと認められる繰入金 | AO35: 22729 | AP35: 7041 | AQ35: 32688 | AR35: -78.5
AK36: 一部事務組合等の起こした地方債に充てたと認められる 補助金又は負担金 | AO36: 31531 | AP36: 9768 | AQ36: 4188 | AR36: 133.2
AK37: 公債費に準ずる債務負担行為に係るもの | AO37: - | AP37: - | AQ37: 1212 | AR37: -
AK38: 一時借入金利子 （同一団体における会計間の現金運用に係る利子は除く） | AO38: 219 | AP38: 68 | AQ38: 25 | AR38: 172
AK39: ▲特定財源の額 | AO39: -1561 | AP39: -484 | AQ39: -7598 | AR39: -93.6
AK40: ▲地方債に係る元利償還金及び準元利償還金に要する経費として 普通交付税の額の算定に用いる基準財政需要額に算入された額 | AO40: -270256 | AP40: -83722 | AQ40: -123844 | AR40: -32.4
AK41: 合計 | AO41: 15077 | AP41: 4671 | AQ41: 42911 | AR41: -89.1
AK42: ※平成31年度中に市町村合併した団体で、合併前の団体ごとの決算に基づく実質公債費比率を算出していない団体については、グラフを表記しない。
A47: （参考） 普通建設事業費の分析
AK48: 普通建設事業費
AM49: 当該団体決算額 （千円） | AN49: 人口１人当たり決算額
AN50: 当該団体(円) | AO50: 増減率(%)(A) | AP50: 類似団体平均(円) | AQ50: 増減率(%)(B) | AR50: (A)-(B)
AK51: H26 | AM51: 675585 | AN51: 195312 | AO51: 31.2 | AP51: 333013 | AQ51: 5.3 | AR51: 25.9
AL52: うち単独分 | AM52: 534457 | AN52: 154512 | AO52: 117.4 | AP52: 126732 | AQ52: 19.1 | AR52: 98.3
AK53: H27 | AM53: 490231 | AN53: 144782 | AO53: -25.9 | AP53: 280458 | AQ53: -15.8 | AR53: -10.1
...

Sheet 性質別歳出決算分析表（住民一人当たりのコスト）

Sheet 目的別歳出決算分析表（住民一人当たりのコスト）

Sheet 実質収支比率等に係る経年分析
J45: 標準財政規模比（％）
B46: 区分 | E46: 年度 | F46: H26 | G46: H27 | H46: H28 | I46: H29 | J46: H30
C47: 財政調整基金残高 | F47: 57.07 | G47: 29.37 | H47: 39.73 | I47: 53.63 | J47: 53.82
C48: 実質収支額 | F48: 2.27 | G48: 2.71 | H48: 3.51 | I48: 3.6 | J48: 4.78
C49: 実質単年度収支 | F49: 1.73 | G49: ▲ 18.21 | H49: 13.85 | I49: 31.23 | J49: 1.19

Sheet 連結実質赤字比率に係る赤字・黒字の構成分析
J32: 標準財政規模比（％）
B33: 会計 | E33: 年度 | F33: H26 | G33: H27 | H33: H28 | I33: H29 | J33: H30
C34: 一般会計 | F34: 2.27 | G34: 2.71 | H34: 3.5 | I34: 3.6 | J34: 4.78
C35: 国民健康保険事業特別会計 | F35: 0.7 | G35: 1.87 | H35: 1.89 | I35: 0.44 | J35: 0.42
C36: 簡易水道事業特別会計 | F36: 0.12 | G36: 0.32 | H36: 0.34 | I36: 0.25 | J36: 0.23
C37: 後期高齢者医療特別会計 | F37: 0.07 | G37: 0.06 | H37: 0.06 | I37: 0 | J37: 0.13
C38: 漁業集落排水事業特別会計 | F38: 0.08 | G38: 0.1 | H38: 0.14 | I38: 0.18 | J38: 0.09
C42: その他会計（赤字） | F42: - | G42: - | H42: - | I42: - | J42: -
C43: その他会計（黒字） | F43: - | G43: - | H43: - | I43: - | J43: -
B44: ※平成31年度中に市町村合併した団体で、合併前の団体ごとの決算に基づく連結実質赤字比率を算出していない団体については、グラフを表記しない。

Sheet 実質公債費比率（分子）の構造
O43: （百万円）
B44: 分子の構造 | J44: 年度 | K44: H26 | L44: H27 | M44: H28 | N44: H29 | O44: H30
B45: 元利償還金等(A) | E45: 元利償還金 | K45: 324 | L45: 302 | M45: 317 | N45: 299 | O45: 232
E46: 減債基金積立不足算定額※2 | K46: - | L46: - | M46: - | N46: - | O46: -
E47: 満期一括償還地方債に係る年度割相当額 | K47: - | L47: - | M47: - | N47: - | O47: -
E48: 公営企業債の元利償還金に対する繰入金 | K48: 7 | L48: 12 | M48: 10 | N48: 14 | O48: 23
E49: 組合等が起こした地方債の元利償還金に対する負担金等 | K49: 35 | L49: 35 | M49: 33 | N49: 33 | O49: 32
E50: 債務負担行為に基づく支出額 | K50: - | L50: - | M50: - | N50: - | O50: -
E51: 一時借入金の利子 | K51: 0 | L51: - | M51: 0 | N51: 0 | O51: 0
B52: 算入公債費等(B) | E52: 算入公債費等 | K52: 369 | L52: 396 | M52: 405 | N52: 319 | O52: 273
B53: (A)－(B) | E53: 実質公債費比率の分子 | K53: -3 | L53: -47 | M53: -45 | N53: 27 | O53: 14
B54: ※1 平成31年度中に市町村合併した団体で、合併前の団体ごとの決算に基づく実質公債費比率を算出していない団体については、グラフを表記しない。
B55: （参考）
J56: 年度 | K56: H25末 | L56: H26末 | M56: H27末 | N56: H28末 | O56: H29末
B57: ※2 減債基金 積立状況等 | D57: 減債基金残高（注） | K57: - | L57: - | M57: - | N57: - | O57: -
D58: 減債基金積立相当額 | K58: - | L58: - | M58: - | N58: - | O58: -
D59: （注）減債基金残高のうち、実質公債費比率の算定に用いる満期一括償還地方債の償還の財源として積み立てた額に係るもののみを記入。
D60: 減債基金積立金の年度を超えた一般会計又は特別会計への貸付額は控除して記入。

Sheet 将来負担比率（分子）の構造
M39: （百万円）
B40: 分子の構造 | H40: 年度 | I40: H26 | J40: H27 | K40: H28 | L40: H29 | M40: H30
B41: 将来負担額(A) | E41: 一般会計等に係る地方債の現在高 | I41: 2505 | J41: 2514 | K41: 3070 | L41: 3120 | M41: 3177
E42: 債務負担行為に基づく支出予定額 | I42: 0 | J42: - | K42: - | L42: - | M42: -
E43: 公営企業債等繰入見込額 | I43: 109 | J43: 162 | K43: 198 | L43: 260 | M43: 348
E44: 組合等負担等見込額 | I44: 182 | J44: 151 | K44: 247 | L44: 89 | M44: 59
E45: 退職手当負担見込額 | I45: 458 | J45: 508 | K45: 442 | L45: 449 | M45: 434
E46: 設立法人等の負債額等負担見込額 | I46: - | J46: - | K46: - | L46: - | M46: -
E47: うち、健全化法施行規則附則第三条に係る負担見込額 | I47: - | J47: - | K47: - | L47: - | M47: -
E48: 連結実質赤字額 | I48: - | J48: - | K48: - | L48: - | M48: -
E49: 組合等連結実質赤字額負担見込額 | I49: - | J49: - | K49: - | L49: - | M49: -
B50: 充当可能財源等(B) | E50: 充当可能基金 | I50: 3347 | J50: 3855 | K50: 4213 | L50: 4655 | M50: 4993
E51: 充当可能特定歳入 | I51: 56 | J51: 40 | K51: 22 | L51: 1 | M51: 0
E52: 基準財政需要額算入見込額 | I52: 2851 | J52: 3125 | K52: 3328 | L52: 3351 | M52: 3362
B53: (A)－(B) | E53: 将来負担比率の分子 | I53: -3001 | J53: -3685 | K53: -3607 | L53: -4089 | M53: -4338
B54: ※平成31年度中に市町村合併した団体で、合併前の団体ごとの決算に基づく将来負担比率を算出していない団体については、グラフを表記しない。

Sheet 基金残高に係る経年分析
H53: （百万円）
B54: 区分 | E54: 年度 | F54: H28 | G54: H29 | H54: H30
C55: 財政調整基金 | F55: 657 | G55: 866 | H55: 867
C56: 減債基金 | F56: 436 | G56: 171 | H56: 492
C57: その他特定目的基金 | F57: 2896 | G57: 3385 | H57: 3396
C58: ふるさと応援基金 | F58: 1389 | G58: 1849 | H58: 1499
C59: ふるさと基金 | F59: 936 | G59: 940 | H59: 943
C60: 奈半利町集落活動センター支援基金 | F60: 44 | G60: 94 | H60: 314
C61: 人づくり奨学基金 | F61: 25 | G61: 25 | H61: 184
C62: 中山間ふるさと水と土保全対策事業基金 | F62: 121 | G62: 121 | H62: 122
C63: 基金残高合計 | F63: 3989 | G63: 4422 | H63: 4755

Sheet 公会計指標分析・財政指標組合せ分析表
EM10: a
EM12: a
B41: 将来負担比率及び有形固定資産減価償却率の組合せによる分析
AN42: 分析欄
AN43: 将来負担比率については、地方債現在高等の将来負担額に対し、基金や基準財政需要額算入見込額等の充当可能財源が多く、将来負担額がマイナスとなっている。有形固定資産減価償却率については、類似団体平均値を下回っているものの、多くの施設で老朽化が進んでおり、今後、公共施設等総合管理計画に基づき、老朽化対策に積極的に取り組んでいく。
AN49: ( 参考 ）
BP50: H26 | BX50: H27 | CF50: H28 | CN50: H29 | CV50: H30
AN51: 当該団体値 | BB51: 将来負担比率
BB53: 有形固定資産減価償却率 | BX53: 51.7 | CF53: 51.3 | CN53: 50.8 | CV53: 52.2
AN55: 類似団体内平均値 | BB55: 将来負担比率 | BX55: 0 | CF55: 0 | CN55: 0 | CV55: 0
BB57: 有形固定資産減価償却率 | BX57: 54.2 | CF57: 56.3 | CN57: 57.6 | CV57: 58.7
B63: 将来負担比率及び実質公債費比率の組合せによる分析
AN64: 分析欄
AN65: 将来負担比率については、地方債現在高等の将来負担額に対し、基金や基準財政需要額算入見込額等の充当可能財源が多く、将来負担額がマイナスとなっている。 また、実質公債費比率は平成19年度から実施した補償金免除繰上償還や平成26年度以降の基金取崩による繰上償還等により、類似団体平均を下回っている。 しかし、今後数年間は投資事業が集中し、地方債の発行増による将来負担額の増加が見込まれるため、計画に基づく事業実施と有利な地方債や補助事業を活用し、適正な管理に努める。
AN71: ( 参考 ）
BP72: H26 | BX72: H27 | CF72: H28 | CN72: H29 | CV72: H30
AN73: 当該団体値 | BB73: 将来負担比率
BB75: 実質公債費比率 | BP75: 4.4 | BX75: 0.6 | CF75: -2.2 | CN75: 0.6 | CV75: 1.4
AN77: 類似団体内平均値 | BB77: 将来負担比率 | BP77: 0 | BX77: 0 | CF77: 0 | CN77: 0 | CV77: 0
BB79: 実質公債費比率 | BP79: 8.2 | BX79: 7.8 | CF79: 7.4 | CN79: 7.1 | CV79: 7.1

Sheet 施設類型別ストック情報分析表①

Sheet 施設類型別ストック情報分析表②

Sheet データシート
D2: 当該団体(円) | F2: 類似団体内平均(円)
A3: H26 | D3: 195312 | F3: 333013
D4: 154512 | F4: 126732
A5: H27 | D5: 144782 | F5: 280458
D6: 64308 | F6: 127286
A7: H28 | D7: 445738 | F7: 291945
D8: 335987 | F8: 127651
A9: H29 | D9: 260766 | F9: 291173
D10: 166599 | F10: 119071
A11: H30 | D11: 159813 | F11: 271581
D12: 44875 | F12: 117844
D13: 241282 | F13: 293634
D14: 153256 | F14: 123717
A17: 実質収支比率等に係る経年分析
B18: =実質収支比率等に係る経年分析!F$46 -> H26 | C18: =実質収支比率等に係る経年分析!G$46 -> H27 | D18: =実質収支比率等に係る経年分析!H$46 -> H28 | E18: =実質収支比率等に係る経年分析!I$46 -> H29 | F18: =実質収支比率等に係る経年分析!J$46 -> H30
A19: 実質収支額 | B19: =ROUND(VALUE(SUBSTITUTE(実質収支比率等に係る経年分析!F$48,"▲","-")),2) -> 2.27 | C19: =ROUND(VALUE(SUBSTITUTE(実質収支比率等に係る経年分析!G$48,"▲","-")),2) -> 2.71 | D19: =ROUND(VALUE(SUBSTITUTE(実質収支比率等に係る経年分析!H$48,"▲","-")),2) -> 3.51 | E19: =ROUND(VALUE(SUBSTITUTE(実質収支比率等に係る経年分析!I$48,"▲","-")),2) -> 3.6 | F19: =ROUND(VALUE(SUBSTITUTE(実質収支比率等に係る経年分析!J$48,"▲","-")),2) -> 4.78
A20: 財政調整基金残高 | B20: =ROUND(VALUE(SUBSTITUTE(実質収支比率等に係る経年分析!F$47,"▲","-")),2) -> 57.07 | C20: =ROUND(VALUE(SUBSTITUTE(実質収支比率等に係る経年分析!G$47,"▲","-")),2) -> 29.37 | D20: =ROUND(VALUE(SUBSTITUTE(実質収支比率等に係る経年分析!H$47,"▲","-")),2) -> 39.73 | E20: =ROUND(VALUE(SUBSTITUTE(実質収支比率等に係る経年分析!I$47,"▲","-")),2) -> 53.63 | F20: =ROUND(VALUE(SUBSTITUTE(実質収支比率等に係る経年分析!J$47,"▲","-")),2) -> 53.82
A21: 実質単年度収支 | B21: =IF(ISNUMBER(VALUE(SUBSTITUTE(実質収支比率等に係る経年分析!F$49,"▲","-"))),ROUND(VALUE(SUBSTITUTE(実質収支比率等に係る経年分析!F$49,"▲","-")),2),NA()) -> 1.73 | C21: =IF(ISNUMBER(VALUE(SUBSTITUTE(実質収支比率等に係る経年分析!G$49,"▲","-"))),ROUND(VALUE(SUBSTITUTE(実質収支比率等に係る経年分析!G$49,"▲","-")),2),NA()) -> -18.21 | D21: =IF(ISNUMBER(VALUE(SUBSTITUTE(実質収支比率等に係る経年分析!H$49,"▲","-"))),ROUND(VALUE(SUBSTITUTE(実質収支比率等に係る経年分析!H$49,"▲","-")),2),NA()) -> 13.85 | E21: =IF(ISNUMBER(VALUE(SUBSTITUTE(実質収支比率等に係る経年分析!I$49,"▲","-"))),ROUND(VALUE(SUBSTITUTE(実質収支比率等に係る経年分析!I$49,"▲","-")),2),NA()) -> 31.23 | F21: =IF(ISNUMBER(VALUE(SUBSTITUTE(実質収支比率等に係る経年分析!J$49,"▲","-"))),ROUND(VALUE(SUBSTITUTE(実質収支比率等に係る経年分析!J$49,"▲","-")),2),NA()) -> 1.19
A24: 連結実質赤字比率に係る赤字・黒字の構成分析
B25: =連結実質赤字比率に係る赤字・黒字の構成分析!F$33 -> H26 | D25: =連結実質赤字比率に係る赤字・黒字の構成分析!G$33 -> H27 | F25: =連結実質赤字比率に係る赤字・黒字の構成分析!H$33 -> H28 | H25: =連結実質赤字比率に係る赤字・黒字の構成分析!I$33 -> H29 | J25: =連結実質赤字比率に係る赤字・黒字の構成分析!J$33 -> H30
B26: 赤字額 | C26: 黒字額 | D26: 赤字額 | E26: 黒字額 | F26: 赤字額 | G26: 黒字額 | H26: 赤字額 | I26: 黒字額 | J26: 赤字額 | K26: 黒字額
A27: =IF(連結実質赤字比率に係る赤字・黒字の構成分析!C$43="",NA(),連結実質赤字比率に係る赤字・黒字の構成分析!C$43) -> その他会計（黒字） | B27: =IF(ROUND(VALUE(SUBSTITUTE(連結実質赤字比率に係る赤字・黒字の構成分析!F$43,"▲", "-")), 2) < 0, ABS(ROUND(VALUE(SUBSTITUTE(連結実質赤字比率に係る赤字・黒字の構成分析!F$43,"▲", "-")), 2)), NA()) -> #VALUE! | C27: =IF(ROUND(VALUE(SUBSTITUTE(連結実質赤字比率に係る赤字・黒字の構成分析!F$43,"▲", "-")), 2) >= 0, ABS(ROUND(VALUE(SUBSTITUTE(連結実質赤字比率に係る赤字・黒字の構成分析!F$43,"▲", "-")), 2)), NA()) -> #VALUE! | D27: =IF(ROUND(VALUE(SUBSTITUTE(連結実質赤字比率に係る赤字・黒字の構成分析!G$43,"▲", "-")), 2) < 0, ABS(ROUND(VALUE(SUBSTITUTE(連結実質赤字比率に係る赤字・黒字の構成分析!G$43,"▲", "-")), 2)), NA()) -> #VALUE! | E27: =IF(ROUND(VALUE(SUBSTITUTE(連結実質赤字比率に係る赤字・黒字の構成分析!G$43,"▲", "-")), 2) >= 0, ABS(ROUND(VALUE(SUBSTITUTE(連結実質赤字比率に係る赤字・黒字の構成分析!G$43,"▲", "-")), 2)), NA()) -> #VALUE! | F27: =IF(ROUND(VALUE(SUBSTITUTE(連結実質赤字比率に係る赤字・黒字の構成分析!H$43,"▲", "-")), 2) < 0, ABS(ROUND(VALUE(SUBSTITUTE(連結実質赤字比率に係る赤字・黒字の構成分析!H$43,"▲", "-")), 2)), NA()) -> #VALUE! | G27: =IF(ROUND(VALUE(SUBSTITUTE(連結実質赤字比率に係る赤字・黒字の構成分析!H$43,"▲", "-")), 2) >= 0, ABS(ROUND(VALUE(SUBSTITUTE(連結実質赤字比率に係る赤字・黒字の構成分析!H$43,"▲", "-")), 2)), NA()) -> #VALUE! | H27: =IF(ROUND(VALUE(SUBSTITUTE(連結実質赤字比率に係る赤字・黒字の構成分析!I$43,"▲", "-")), 2) < 0, ABS(ROUND(VALUE(SUBSTITUTE(連結実質赤字比率に係る赤字・黒字の構成分析!I$43,"▲", "-")), 2)), NA()) -> #VALUE! | I27: =IF(ROUND(VALUE(SUBSTITUTE(連結実質赤字比率に係る赤字・黒字の構成分析!I$43,"▲", "-")), 2) >= 0, ABS(ROUND(VALUE(SUBSTITUTE(連結実質赤字比率に係る赤字・黒字の構成分析!I$43,"▲", "-")), 2)), NA()) -> #VALUE! | J27: =IF(ROUND(VALUE(SUBSTITUTE(連結実質赤字比率に係る赤字・黒字の構成分析!J$43,"▲", "-")), 2) < 0, ABS(ROUND(VALUE(SUBSTITUTE(連結実質赤字比率に係る赤字・黒字の構成分析!J$43,"▲", "-")), 2)), NA()) -> #VALUE! | K27: =IF(ROUND(VALUE(SUBSTITUTE(連結実質赤字比率に係る赤字・黒字の構成分析!J$43,"▲", "-")), 2) >= 0, ABS(ROUND(VALUE(SUBSTITUTE(連結実質赤字比率に係る赤字・黒字の構成分析!J$43,"▲", "-")), 2)), NA()) -> #VALUE!
A28: =IF(連結実質赤字比率に係る赤字・黒字の構成分析!C$42="",NA(),連結実質赤字比率に係る赤字・黒字の構成分析!C$42) -> その他会計（赤字） | B28: =IF(ROUND(VALUE(SUBSTITUTE(連結実質赤字比率に係る赤字・黒字の構成分析!F$42,"▲", "-")), 2) < 0, ABS(ROUND(VALUE(SUBSTITUTE(連結実質赤字比率に係る赤字・黒字の構成分析!F$42,"▲", "-")), 2)), NA()) -> #VALUE! | C28: =IF(ROUND(VALUE(SUBSTITUTE(連結実質赤字比率に係る赤字・黒字の構成分析!F$42,"▲", "-")), 2) >= 0, ABS(ROUND(VALUE(SUBSTITUTE(連結実質赤字比率に係る赤字・黒字の構成分析!F$42,"▲", "-")), 2)), NA()) -> #VALUE! | D28: =IF(ROUND(VALUE(SUBSTITUTE(連結実質赤字比率に係る赤字・黒字の構成分析!G$42,"▲", "-")), 2) < 0, ABS(ROUND(VALUE(SUBSTITUTE(連結実質赤字比率に係る赤字・黒字の構成分析!G$42,"▲", "-")), 2)), NA()) -> #VALUE! | E28: =IF(ROUND(VALUE(SUBSTITUTE(連結実質赤字比率に係る赤字・黒字の構成分析!G$42,"▲", "-")), 2) >= 0, ABS(ROUND(VALUE(SUBSTITUTE(連結実質赤字比率に係る赤字・黒字の構成分析!G$42,"▲", "-")), 2)), NA()) -> #VALUE! | F28: =IF(ROUND(VALUE(SUBSTITUTE(連結実質赤字比率に係る赤字・黒字の構成分析!H$42,"▲", "-")), 2) < 0, ABS(ROUND(VALUE(SUBSTITUTE(連結実質赤字比率に係る赤字・黒字の構成分析!H$42,"▲", "-")), 2)), NA()) -> #VALUE! | G28: =IF(ROUND(VALUE(SUBSTITUTE(連結実質赤字比率に係る赤字・黒字の構成分析!H$42,"▲", "-")), 2) >= 0, ABS(ROUND(VALUE(SUBSTITUTE(連結実質赤字比率に係る赤字・黒字の構成分析!H$42,"▲", "-")), 2)), NA()) -> #VALUE! | H28: =IF(ROUND(VALUE(SUBSTITUTE(連結実質赤字比率に係る赤字・黒字の構成分析!I$42,"▲", "-")), 2) < 0, ABS(ROUND(VALUE(SUBSTITUTE(連結実質赤字比率に係る赤字・黒字の構成分析!I$42,"▲", "-")), 2)), NA()) -> #VALUE! | I28: =IF(ROUND(VALUE(SUBSTITUTE(連結実質赤字比率に係る赤字・黒字の構成分析!I$42,"▲", "-")), 2) >= 0, ABS(ROUND(VALUE(SUBSTITUTE(連結実質赤字比率に係る赤字・黒字の構成分析!I$42,"▲", "-")), 2)), NA()) -> #VALUE! | J28: =IF(ROUND(VALUE(SUBSTITUTE(連結実質赤字比率に係る赤字・黒字の構成分析!J$42,"▲", "-")), 2) < 0, ABS(ROUND(VALUE(SUBSTITUTE(連結実質赤字比率に係る赤字・黒字の構成分析!J$42,"▲", "-")), 2)), NA()) -> #VALUE! | K28: =IF(ROUND(VALUE(SUBSTITUTE(連結実質赤字比率に係る赤字・黒字の構成分析!J$42,"▲", "-")), 2) >= 0, ABS(ROUND(VALUE(SUBSTITUTE(連結実質赤字比率に係る赤字・黒字の構成分析!J$42,"▲", "-")), 2)), NA()) -> #VALUE!
A29: =IF(連結実質赤字比率に係る赤字・黒字の構成分析!C$41="",NA(),連結実質赤字比率に係る赤字・黒字の構成分析!C$41) -> #N/A | B29: =IF(ROUND(VALUE(SUBSTITUTE(連結実質赤字比率に係る赤字・黒字の構成分析!F$41,"▲", "-")), 2) < 0, ABS(ROUND(VALUE(SUBSTITUTE(連結実質赤字比率に係る赤字・黒字の構成分析!F$41,"▲", "-")), 2)), NA()) -> #VALUE! | C29: =IF(ROUND(VALUE(SUBSTITUTE(連結実質赤字比率に係る赤字・黒字の構成分析!F$41,"▲", "-")), 2) >= 0, ABS(ROUND(VALUE(SUBSTITUTE(連結実質赤字比率に係る赤字・黒字の構成分析!F$41,"▲", "-")), 2)), NA()) -> #VALUE! | D29: =IF(ROUND(VALUE(SUBSTITUTE(連結実質赤字比率に係る赤字・黒字の構成分析!G$41,"▲", "-")), 2) < 0, ABS(ROUND(VALUE(SUBSTITUTE(連結実質赤字比率に係る赤字・黒字の構成分析!G$41,"▲", "-")), 2)), NA()) -> #VALUE! | E29: =IF(ROUND(VALUE(SUBSTITUTE(連結実質赤字比率に係る赤字・黒字の構成分析!G$41,"▲", "-")), 2) >= 0, ABS(ROUND(VALUE(SUBSTITUTE(連結実質赤字比率に係る赤字・黒字の構成分析!G$41,"▲", "-")), 2)), NA()) -> #VALUE! | F29: =IF(ROUND(VALUE(SUBSTITUTE(連結実質赤字比率に係る赤字・黒字の構成分析!H$41,"▲", "-")), 2) < 0, ABS(ROUND(VALUE(SUBSTITUTE(連結実質赤字比率に係る赤字・黒字の構成分析!H$41,"▲", "-")), 2)), NA()) -> #VALUE! | G29: =IF(ROUND(VALUE(SUBSTITUTE(連結実質赤字比率に係る赤字・黒字の構成分析!H$41,"▲", "-")), 2) >= 0, ABS(ROUND(VALUE(SUBSTITUTE(連結実質赤字比率に係る赤字・黒字の構成分析!H$41,"▲", "-")), 2)), NA()) -> #VALUE! | H29: =IF(ROUND(VALUE(SUBSTITUTE(連結実質赤字比率に係る赤字・黒字の構成分析!I$41,"▲", "-")), 2) < 0, ABS(ROUND(VALUE(SUBSTITUTE(連結実質赤字比率に係る赤字・黒字の構成分析!I$41,"▲", "-")), 2)), NA()) -> #VALUE! | I29: =IF(ROUND(VALUE(SUBSTITUTE(連結実質赤字比率に係る赤字・黒字の構成分析!I$41,"▲", "-")), 2) >= 0, ABS(ROUND(VALUE(SUBSTITUTE(連結実質赤字比率に係る赤字・黒字の構成分析!I$41,"▲", "-")), 2)), NA()) -> #VALUE! | J29: =IF(ROUND(VALUE(SUBSTITUTE(連結実質赤字比率に係る赤字・黒字の構成分析!J$41,"▲", "-")), 2) < 0, ABS(ROUND(VALUE(SUBSTITUTE(連結実質赤字比率に係る赤字・黒字の構成分析!J$41,"▲", "-")), 2)), NA()) -> #VALUE! | K29: =IF(ROUND(VALUE(SUBSTITUTE(連結実質赤字比率に係る赤字・黒字の構成分析!J$41,"▲", "-")), 2) >= 0, ABS(ROUND(VALUE(SUBSTITUTE(連結実質赤字比率に係る赤字・黒字の構成分析!J$41,"▲", "-")), 2)), NA()) -> #VALUE!
A30: =IF(連結実質赤字比率に係る赤字・黒字の構成分析!C$40="",NA(),連結実質赤字比率に係る赤字・黒字の構成分析!C$40) -> #N/A | B30: =IF(ROUND(VALUE(SUBSTITUTE(連結実質赤字比率に係る赤字・黒字の構成分析!F$40,"▲", "-")), 2) < 0, ABS(ROUND(VALUE(SUBSTITUTE(連結実質赤字比率に係る赤字・黒字の構成分析!F$40,"▲", "-")), 2)), NA()) -> #VALUE! | C30: =IF(ROUND(VALUE(SUBSTITUTE(連結実質赤字比率に係る赤字・黒字の構成分析!F$40,"▲", "-")), 2) >= 0, ABS(ROUND(VALUE(SUBSTITUTE(連結実質赤字比率に係る赤字・黒字の構成分析!F$40,"▲", "-")), 2)), NA()) -> #VALUE! | D30: =IF(ROUND(VALUE(SUBSTITUTE(連結実質赤字比率に係る赤字・黒字の構成分析!G$40,"▲", "-")), 2) < 0, ABS(ROUND(VALUE(SUBSTITUTE(連結実質赤字比率に係る赤字・黒字の構成分析!G$40,"▲", "-")), 2)), NA()) -> #VALUE! | E30: =IF(ROUND(VALUE(SUBSTITUTE(連結実質赤字比率に係る赤字・黒字の構成分析!G$40,"▲", "-")), 2) >= 0, ABS(ROUND(VALUE(SUBSTITUTE(連結実質赤字比率に係る赤字・黒字の構成分析!G$40,"▲", "-")), 2)), NA()) -> #VALUE! | F30: =IF(ROUND(VALUE(SUBSTITUTE(連結実質赤字比率に係る赤字・黒字の構成分析!H$40,"▲", "-")), 2) < 0, ABS(ROUND(VALUE(SUBSTITUTE(連結実質赤字比率に係る赤字・黒字の構成分析!H$40,"▲", "-")), 2)), NA()) -> #VALUE! | G30: =IF(ROUND(VALUE(SUBSTITUTE(連結実質赤字比率に係る赤字・黒字の構成分析!H$40,"▲", "-")), 2) >= 0, ABS(ROUND(VALUE(SUBSTITUTE(連結実質赤字比率に係る赤字・黒字の構成分析!H$40,"▲", "-")), 2)), NA()) -> #VALUE! | H30: =IF(ROUND(VALUE(SUBSTITUTE(連結実質赤字比率に係る赤字・黒字の構成分析!I$40,"▲", "-")), 2) < 0, ABS(ROUND(VALUE(SUBSTITUTE(連結実質赤字比率に係る赤字・黒字の構成分析!I$40,"▲", "-")), 2)), NA()) -> #VALUE! | I30: =IF(ROUND(VALUE(SUBSTITUTE(連結実質赤字比率に係る赤字・黒字の構成分析!I$40,"▲", "-")), 2) >= 0, ABS(ROUND(VALUE(SUBSTITUTE(連結実質赤字比率に係る赤字・黒字の構成分析!I$40,"▲", "-")), 2)), NA()) -> #VALUE! | J30: =IF(ROUND(VALUE(SUBSTITUTE(連結実質赤字比率に係る赤字・黒字の構成分析!J$40,"▲", "-")), 2) < 0, ABS(ROUND(VALUE(SUBSTITUTE(連結実質赤字比率に係る赤字・黒字の構成分析!J$40,"▲", "-")), 2)), NA()) -> #VALUE! | K30: =IF(ROUND(VALUE(SUBSTITUTE(連結実質赤字比率に係る赤字・黒字の構成分析!J$40,"▲", "-")), 2) >= 0, ABS(ROUND(VALUE(SUBSTITUTE(連結実質赤字比率に係る赤字・黒字の構成分析!J$40,"▲", "-")), 2)), NA()) -> #VALUE!
A31: =IF(連結実質赤字比率に係る赤字・黒字の構成分析!C$39="",NA(),連結実質赤字比率に係る赤字・黒字の構成分析!C$39) -> #N/A | B31: =IF(ROUND(VALUE(SUBSTITUTE(連結実質赤字比率に係る赤字・黒字の構成分析!F$39,"▲", "-")), 2) < 0, ABS(ROUND(VALUE(SUBSTITUTE(連結実質赤字比率に係る赤字・黒字の構成分析!F$39,"▲", "-")), 2)), NA()) -> #VALUE! | C31: =IF(ROUND(VALUE(SUBSTITUTE(連結実質赤字比率に係る赤字・黒字の構成分析!F$39,"▲", "-")), 2) >= 0, ABS(ROUND(VALUE(SUBSTITUTE(連結実質赤字比率に係る赤字・黒字の構成分析!F$39,"▲", "-")), 2)), NA()) -> #VALUE! | D31: =IF(ROUND(VALUE(SUBSTITUTE(連結実質赤字比率に係る赤字・黒字の構成分析!G$39,"▲", "-")), 2) < 0, ABS(ROUND(VALUE(SUBSTITUTE(連結実質赤字比率に係る赤字・黒字の構成分析!G$39,"▲", "-")), 2)), NA()) -> #VALUE! | E31: =IF(ROUND(VALUE(SUBSTITUTE(連結実質赤字比率に係る赤字・黒字の構成分析!G$39,"▲", "-")), 2) >= 0, ABS(ROUND(VALUE(SUBSTITUTE(連結実質赤字比率に係る赤字・黒字の構成分析!G$39,"▲", "-")), 2)), NA()) -> #VALUE! | F31: =IF(ROUND(VALUE(SUBSTITUTE(連結実質赤字比率に係る赤字・黒字の構成分析!H$39,"▲", "-")), 2) < 0, ABS(ROUND(VALUE(SUBSTITUTE(連結実質赤字比率に係る赤字・黒字の構成分析!H$39,"▲", "-")), 2)), NA()) -> #VALUE! | G31: =IF(ROUND(VALUE(SUBSTITUTE(連結実質赤字比率に係る赤字・黒字の構成分析!H$39,"▲", "-")), 2) >= 0, ABS(ROUND(VALUE(SUBSTITUTE(連結実質赤字比率に係る赤字・黒字の構成分析!H$39,"▲", "-")), 2)), NA()) -> #VALUE! | H31: =IF(ROUND(VALUE(SUBSTITUTE(連結実質赤字比率に係る赤字・黒字の構成分析!I$39,"▲", "-")), 2) < 0, ABS(ROUND(VALUE(SUBSTITUTE(連結実質赤字比率に係る赤字・黒字の構成分析!I$39,"▲", "-")), 2)), NA()) -> #VALUE! | I31: =IF(ROUND(VALUE(SUBSTITUTE(連結実質赤字比率に係る赤字・黒字の構成分析!I$39,"▲", "-")), 2) >= 0, ABS(ROUND(VALUE(SUBSTITUTE(連結実質赤字比率に係る赤字・黒字の構成分析!I$39,"▲", "-")), 2)), NA()) -> #VALUE! | J31: =IF(ROUND(VALUE(SUBSTITUTE(連結実質赤字比率に係る赤字・黒字の構成分析!J$39,"▲", "-")), 2) < 0, ABS(ROUND(VALUE(SUBSTITUTE(連結実質赤字比率に係る赤字・黒字の構成分析!J$39,"▲", "-")), 2)), NA()) -> #VALUE! | K31: =IF(ROUND(VALUE(SUBSTITUTE(連結実質赤字比率に係る赤字・黒字の構成分析!J$39,"▲", "-")), 2) >= 0, ABS(ROUND(VALUE(SUBSTITUTE(連結実質赤字比率に係る赤字・黒字の構成分析!J$39,"▲", "-")), 2)), NA()) -> #VALUE!
A32: =IF(連結実質赤字比率に係る赤字・黒字の構成分析!C$38="",NA(),連結実質赤字比率に係る赤字・黒字の構成分析!C$38) -> 漁業集落排水事業特別会計 | B32: =IF(ROUND(VALUE(SUBSTITUTE(連結実質赤字比率に係る赤字・黒字の構成分析!F$38,"▲", "-")), 2) < 0, ABS(ROUND(VALUE(SUBSTITUTE(連結実質赤字比率に係る赤字・黒字の構成分析!F$38,"▲", "-")), 2)), NA()) -> #N/A | C32: =IF(ROUND(VALUE(SUBSTITUTE(連結実質赤字比率に係る赤字・黒字の構成分析!F$38,"▲", "-")), 2) >= 0, ABS(ROUND(VALUE(SUBSTITUTE(連結実質赤字比率に係る赤字・黒字の構成分析!F$38,"▲", "-")), 2)), NA()) -> 0.08 | D32: =IF(ROUND(VALUE(SUBSTITUTE(連結実質赤字比率に係る赤字・黒字の構成分析!G$38,"▲", "-")), 2) < 0, ABS(ROUND(VALUE(SUBSTITUTE(連結実質赤字比率に係る赤字・黒字の構成分析!G$38,"▲", "-")), 2)), NA()) -> #N/A | E32: =IF(ROUND(VALUE(SUBSTITUTE(連結実質赤字比率に係る赤字・黒字の構成分析!G$38,"▲", "-")), 2) >= 0, ABS(ROUND(VALUE(SUBSTITUTE(連結実質赤字比率に係る赤字・黒字の構成分析!G$38,"▲", "-")), 2)), NA()) -> 0.1 | F32: =IF(ROUND(VALUE(SUBSTITUTE(連結実質赤字比率に係る赤字・黒字の構成分析!H$38,"▲", "-")), 2) < 0, ABS(ROUND(VALUE(SUBSTITUTE(連結実質赤字比率に係る赤字・黒字の構成分析!H$38,"▲", "-")), 2)), NA()) -> #N/A | G32: =IF(ROUND(VALUE(SUBSTITUTE(連結実質赤字比率に係る赤字・黒字の構成分析!H$38,"▲", "-")), 2) >= 0, ABS(ROUND(VALUE(SUBSTITUTE(連結実質赤字比率に係る赤字・黒字の構成分析!H$38,"▲", "-")), 2)), NA()) -> 0.14 | H32: =IF(ROUND(VALUE(SUBSTITUTE(連結実質赤字比率に係る赤字・黒字の構成分析!I$38,"▲", "-")), 2) < 0, ABS(ROUND(VALUE(SUBSTITUTE(連結実質赤字比率に係る赤字・黒字の構成分析!I$38,"▲", "-")), 2)), NA()) -> #N/A | I32: =IF(ROUND(VALUE(SUBSTITUTE(連結実質赤字比率に係る赤字・黒字の構成分析!I$38,"▲", "-")), 2) >= 0, ABS(ROUND(VALUE(SUBSTITUTE(連結実質赤字比率に係る赤字・黒字の構成分析!I$38,"▲", "-")), 2)), NA()) -> 0.18 | J32: =IF(ROUND(VALUE(SUBSTITUTE(連結実質赤字比率に係る赤字・黒字の構成分析!J$38,"▲", "-")), 2) < 0, ABS(ROUND(VALUE(SUBSTITUTE(連結実質赤字比率に係る赤字・黒字の構成分析!J$38,"▲", "-")), 2)), NA()) -> #N/A | K32: =IF(ROUND(VALUE(SUBSTITUTE(連結実質赤字比率に係る赤字・黒字の構成分析!J$38,"▲", "-")), 2) >= 0, ABS(ROUND(VALUE(SUBSTITUTE(連結実質赤字比率に係る赤字・黒字の構成分析!J$38,"▲", "-")), 2)), NA()) -> 0.09
A33: =IF(連結実質赤字比率に係る赤字・黒字の構成分析!C$37="",NA(),連結実質赤字比率に係る赤字・黒字の構成分析!C$37) -> 後期高齢者医療特別会計 | B33: =IF(ROUND(VALUE(SUBSTITUTE(連結実質赤字比率に係る赤字・黒字の構成分析!F$37,"▲", "-")), 2) < 0, ABS(ROUND(VALUE(SUBSTITUTE(連結実質赤字比率に係る赤字・黒字の構成分析!F$37,"▲", "-")), 2)), NA()) -> #N/A | C33: =IF(ROUND(VALUE(SUBSTITUTE(連結実質赤字比率に係る赤字・黒字の構成分析!F$37,"▲", "-")), 2) >= 0, ABS(ROUND(VALUE(SUBSTITUTE(連結実質赤字比率に係る赤字・黒字の構成分析!F$37,"▲", "-")), 2)), NA()) -> 0.07 | D33: =IF(ROUND(VALUE(SUBSTITUTE(連結実質赤字比率に係る赤字・黒字の構成分析!G$37,"▲", "-")), 2) < 0, ABS(ROUND(VALUE(SUBSTITUTE(連結実質赤字比率に係る赤字・黒字の構成分析!G$37,"▲", "-")), 2)), NA()) -> #N/A | E33: =IF(ROUND(VALUE(SUBSTITUTE(連結実質赤字比率に係る赤字・黒字の構成分析!G$37,"▲", "-")), 2) >= 0, ABS(ROUND(VALUE(SUBSTITUTE(連結実質赤字比率に係る赤字・黒字の構成分析!G$37,"▲", "-")), 2)), NA()) -> 0.06 | F33: =IF(ROUND(VALUE(SUBSTITUTE(連結実質赤字比率に係る赤字・黒字の構成分析!H$37,"▲", "-")), 2) < 0, ABS(ROUND(VALUE(SUBSTITUTE(連結実質赤字比率に係る赤字・黒字の構成分析!H$37,"▲", "-")), 2)), NA()) -> #N/A | G33: =IF(ROUND(VALUE(SUBSTITUTE(連結実質赤字比率に係る赤字・黒字の構成分析!H$37,"▲", "-")), 2) >= 0, ABS(ROUND(VALUE(SUBSTITUTE(連結実質赤字比率に係る赤字・黒字の構成分析!H$37,"▲", "-")), 2)), NA()) -> 0.06 | H33: =IF(ROUND(VALUE(SUBSTITUTE(連結実質赤字比率に係る赤字・黒字の構成分析!I$37,"▲", "-")), 2) < 0, ABS(ROUND(VALUE(SUBSTITUTE(連結実質赤字比率に係る赤字・黒字の構成分析!I$37,"▲", "-")), 2)), NA()) -> #N/A | I33: =IF(ROUND(VALUE(SUBSTITUTE(連結実質赤字比率に係る赤字・黒字の構成分析!I$37,"▲", "-")), 2) >= 0, ABS(ROUND(VALUE(SUBSTITUTE(連結実質赤字比率に係る赤字・黒字の構成分析!I$37,"▲", "-")), 2)), NA()) -> 0 | J33: =IF(ROUND(VALUE(SUBSTITUTE(連結実質赤字比率に係る赤字・黒字の構成分析!J$37,"▲", "-")), 2) < 0, ABS(ROUND(VALUE(SUBSTITUTE(連結実質赤字比率に係る赤字・黒字の構成分析!J$37,"▲", "-")), 2)), NA()) -> #N/A | K33: =IF(ROUND(VALUE(SUBSTITUTE(連結実質赤字比率に係る赤字・黒字の構成分析!J$37,"▲", "-")), 2) >= 0, ABS(ROUND(VALUE(SUBSTITUTE(連結実質赤字比率に係る赤字・黒字の構成分析!J$37,"▲", "-")), 2)), NA()) -> 0.13
A34: =IF(連結実質赤字比率に係る赤字・黒字の構成分析!C$36="",NA(),連結実質赤字比率に係る赤字・黒字の構成分析!C$36) -> 簡易水道事業特別会計 | B34: =IF(ROUND(VALUE(SUBSTITUTE(連結実質赤字比率に係る赤字・黒字の構成分析!F$36,"▲", "-")), 2) < 0, ABS(ROUND(VALUE(SUBSTITUTE(連結実質赤字比率に係る赤字・黒字の構成分析!F$36,"▲", "-")), 2)), NA()) -> #N/A | C34: =IF(ROUND(VALUE(SUBSTITUTE(連結実質赤字比率に係る赤字・黒字の構成分析!F$36,"▲", "-")), 2) >= 0, ABS(ROUND(VALUE(SUBSTITUTE(連結実質赤字比率に係る赤字・黒字の構成分析!F$36,"▲", "-")), 2)), NA()) -> 0.12 | D34: =IF(ROUND(VALUE(SUBSTITUTE(連結実質赤字比率に係る赤字・黒字の構成分析!G$36,"▲", "-")), 2) < 0, ABS(ROUND(VALUE(SUBSTITUTE(連結実質赤字比率に係る赤字・黒字の構成分析!G$36,"▲", "-")), 2)), NA()) -> #N/A | E34: =IF(ROUND(VALUE(SUBSTITUTE(連結実質赤字比率に係る赤字・黒字の構成分析!G$36,"▲", "-")), 2) >= 0, ABS(ROUND(VALUE(SUBSTITUTE(連結実質赤字比率に係る赤字・黒字の構成分析!G$36,"▲", "-")), 2)), NA()) -> 0.32 | F34: =IF(ROUND(VALUE(SUBSTITUTE(連結実質赤字比率に係る赤字・黒字の構成分析!H$36,"▲", "-")), 2) < 0, ABS(ROUND(VALUE(SUBSTITUTE(連結実質赤字比率に係る赤字・黒字の構成分析!H$36,"▲", "-")), 2)), NA()) -> #N/A | G34: =IF(ROUND(VALUE(SUBSTITUTE(連結実質赤字比率に係る赤字・黒字の構成分析!H$36,"▲", "-")), 2) >= 0, ABS(ROUND(VALUE(SUBSTITUTE(連結実質赤字比率に係る赤字・黒字の構成分析!H$36,"▲", "-")), 2)), NA()) -> 0.34 | H34: =IF(ROUND(VALUE(SUBSTITUTE(連結実質赤字比率に係る赤字・黒字の構成分析!I$36,"▲", "-")), 2) < 0, ABS(ROUND(VALUE(SUBSTITUTE(連結実質赤字比率に係る赤字・黒字の構成分析!I$36,"▲", "-")), 2)), NA()) -> #N/A | I34: =IF(ROUND(VALUE(SUBSTITUTE(連結実質赤字比率に係る赤字・黒字の構成分析!I$36,"▲", "-")), 2) >= 0, ABS(ROUND(VALUE(SUBSTITUTE(連結実質赤字比率に係る赤字・黒字の構成分析!I$36,"▲", "-")), 2)), NA()) -> 0.25 | J34: =IF(ROUND(VALUE(SUBSTITUTE(連結実質赤字比率に係る赤字・黒字の構成分析!J$36,"▲", "-")), 2) < 0, ABS(ROUND(VALUE(SUBSTITUTE(連結実質赤字比率に係る赤字・黒字の構成分析!J$36,"▲", "-")), 2)), NA()) -> #N/A | K34: =IF(ROUND(VALUE(SUBSTITUTE(連結実質赤字比率に係る赤字・黒字の構成分析!J$36,"▲", "-")), 2) >= 0, ABS(ROUND(VALUE(SUBSTITUTE(連結実質赤字比率に係る赤字・黒字の構成分析!J$36,"▲", "-")), 2)), NA()) -> 0.23
A35: =IF(連結実質赤字比率に係る赤字・黒字の構成分析!C$35="",NA(),連結実質赤字比率に係る赤字・黒字の構成分析!C$35) -> 国民健康保険事業特別会計 | B35: =IF(ROUND(VALUE(SUBSTITUTE(連結実質赤字比率に係る赤字・黒字の構成分析!F$35,"▲", "-")), 2) < 0, ABS(ROUND(VALUE(SUBSTITUTE(連結実質赤字比率に係る赤字・黒字の構成分析!F$35,"▲", "-")), 2)), NA()) -> #N/A | C35: =IF(ROUND(VALUE(SUBSTITUTE(連結実質赤字比率に係る赤字・黒字の構成分析!F$35,"▲", "-")), 2) >= 0, ABS(ROUND(VALUE(SUBSTITUTE(連結実質赤字比率に係る赤字・黒字の構成分析!F$35,"▲", "-")), 2)), NA()) -> 0.7 | D35: =IF(ROUND(VALUE(SUBSTITUTE(連結実質赤字比率に係る赤字・黒字の構成分析!G$35,"▲", "-")), 2) < 0, ABS(ROUND(VALUE(SUBSTITUTE(連結実質赤字比率に係る赤字・黒字の構成分析!G$35,"▲", "-")), 2)), NA()) -> #N/A | E35: =IF(ROUND(VALUE(SUBSTITUTE(連結実質赤字比率に係る赤字・黒字の構成分析!G$35,"▲", "-")), 2) >= 0, ABS(ROUND(VALUE(SUBSTITUTE(連結実質赤字比率に係る赤字・黒字の構成分析!G$35,"▲", "-")), 2)), NA()) -> 1.87 | F35: =IF(ROUND(VALUE(SUBSTITUTE(連結実質赤字比率に係る赤字・黒字の構成分析!H$35,"▲", "-")), 2) < 0, ABS(ROUND(VALUE(SUBSTITUTE(連結実質赤字比率に係る赤字・黒字の構成分析!H$35,"▲", "-")), 2)), NA()) -> #N/A | G35: =IF(ROUND(VALUE(SUBSTITUTE(連結実質赤字比率に係る赤字・黒字の構成分析!H$35,"▲", "-")), 2) >= 0, ABS(ROUND(VALUE(SUBSTITUTE(連結実質赤字比率に係る赤字・黒字の構成分析!H$35,"▲", "-")), 2)), NA()) -> 1.89 | H35: =IF(ROUND(VALUE(SUBSTITUTE(連結実質赤字比率に係る赤字・黒字の構成分析!I$35,"▲", "-")), 2) < 0, ABS(ROUND(VALUE(SUBSTITUTE(連結実質赤字比率に係る赤字・黒字の構成分析!I$35,"▲", "-")), 2)), NA()) -> #N/A | I35: =IF(ROUND(VALUE(SUBSTITUTE(連結実質赤字比率に係る赤字・黒字の構成分析!I$35,"▲", "-")), 2) >= 0, ABS(ROUND(VALUE(SUBSTITUTE(連結実質赤字比率に係る赤字・黒字の構成分析!I$35,"▲", "-")), 2)), NA()) -> 0.44 | J35: =IF(ROUND(VALUE(SUBSTITUTE(連結実質赤字比率に係る赤字・黒字の構成分析!J$35,"▲", "-")), 2) < 0, ABS(ROUND(VALUE(SUBSTITUTE(連結実質赤字比率に係る赤字・黒字の構成分析!J$35,"▲", "-")), 2)), NA()) -> #N/A | K35: =IF(ROUND(VALUE(SUBSTITUTE(連結実質赤字比率に係る赤字・黒字の構成分析!J$35,"▲", "-")), 2) >= 0, ABS(ROUND(VALUE(SUBSTITUTE(連結実質赤字比率に係る赤字・黒字の構成分析!J$35,"▲", "-")), 2)), NA()) -> 0.42
A36: =IF(連結実質赤字比率に係る赤字・黒字の構成分析!C$34="",NA(),連結実質赤字比率に係る赤字・黒字の構成分析!C$34) -> 一般会計 | B36: =IF(ROUND(VALUE(SUBSTITUTE(連結実質赤字比率に係る赤字・黒字の構成分析!F$34,"▲", "-")), 2) < 0, ABS(ROUND(VALUE(SUBSTITUTE(連結実質赤字比率に係る赤字・黒字の構成分析!F$34,"▲", "-")), 2)), NA()) -> #N/A | C36: =IF(ROUND(VALUE(SUBSTITUTE(連結実質赤字比率に係る赤字・黒字の構成分析!F$34,"▲", "-")), 2) >= 0, ABS(ROUND(VALUE(SUBSTITUTE(連結実質赤字比率に係る赤字・黒字の構成分析!F$34,"▲", "-")), 2)), NA()) -> 2.27 | D36: =IF(ROUND(VALUE(SUBSTITUTE(連結実質赤字比率に係る赤字・黒字の構成分析!G$34,"▲", "-")), 2) < 0, ABS(ROUND(VALUE(SUBSTITUTE(連結実質赤字比率に係る赤字・黒字の構成分析!G$34,"▲", "-")), 2)), NA()) -> #N/A | E36: =IF(ROUND(VALUE(SUBSTITUTE(連結実質赤字比率に係る赤字・黒字の構成分析!G$34,"▲", "-")), 2) >= 0, ABS(ROUND(VALUE(SUBSTITUTE(連結実質赤字比率に係る赤字・黒字の構成分析!G$34,"▲", "-")), 2)), NA()) -> 2.71 | F36: =IF(ROUND(VALUE(SUBSTITUTE(連結実質赤字比率に係る赤字・黒字の構成分析!H$34,"▲", "-")), 2) < 0, ABS(ROUND(VALUE(SUBSTITUTE(連結実質赤字比率に係る赤字・黒字の構成分析!H$34,"▲", "-")), 2)), NA()) -> #N/A | G36: =IF(ROUND(VALUE(SUBSTITUTE(連結実質赤字比率に係る赤字・黒字の構成分析!H$34,"▲", "-")), 2) >= 0, ABS(ROUND(VALUE(SUBSTITUTE(連結実質赤字比率に係る赤字・黒字の構成分析!H$34,"▲", "-")), 2)), NA()) -> 3.5 | H36: =IF(ROUND(VALUE(SUBSTITUTE(連結実質赤字比率に係る赤字・黒字の構成分析!I$34,"▲", "-")), 2) < 0, ABS(ROUND(VALUE(SUBSTITUTE(連結実質赤字比率に係る赤字・黒字の構成分析!I$34,"▲", "-")), 2)), NA()) -> #N/A | I36: =IF(ROUND(VALUE(SUBSTITUTE(連結実質赤字比率に係る赤字・黒字の構成分析!I$34,"▲", "-")), 2) >= 0, ABS(ROUND(VALUE(SUBSTITUTE(連結実質赤字比率に係る赤字・黒字の構成分析!I$34,"▲", "-")), 2)), NA()) -> 3.6 | J36: =IF(ROUND(VALUE(SUBSTITUTE(連結実質赤字比率に係る赤字・黒字の構成分析!J$34,"▲", "-")), 2) < 0, ABS(ROUND(VALUE(SUBSTITUTE(連結実質赤字比率に係る赤字・黒字の構成分析!J$34,"▲", "-")), 2)), NA()) -> #N/A | K36: =IF(ROUND(VALUE(SUBSTITUTE(連結実質赤字比率に係る赤字・黒字の構成分析!J$34,"▲", "-")), 2) >= 0, ABS(ROUND(VALUE(SUBSTITUTE(連結実質赤字比率に係る赤字・黒字の構成分析!J$34,"▲", "-")), 2)), NA()) -> 4.78
A39: 実質公債費比率（分子）の構造
B40: ='実質公債費比率（分子）の構造'!K$44 -> H26 | E40: ='実質公債費比率（分子）の構造'!L$44 -> H27 | H40: ='実質公債費比率（分子）の構造'!M$44 -> H28 | K40: ='実質公債費比率（分子）の構造'!N$44 -> H29 | N40: ='実質公債費比率（分子）の構造'!O$44 -> H30
B41: 元利償還金等 | D41: 算入公債費等 | E41: 元利償還金等 | G41: 算入公債費等 | H41: 元利償還金等 | J41: 算入公債費等 | K41: 元利償還金等 | M41: 算入公債費等 | N41: 元利償還金等 | P41: 算入公債費等
A42: 算入公債費等 | D42: ='実質公債費比率（分子）の構造'!K$52 -> 369 | G42: ='実質公債費比率（分子）の構造'!L$52 -> 396 | J42: ='実質公債費比率（分子）の構造'!M$52 -> 405 | M42: ='実質公債費比率（分子）の構造'!N$52 -> 319 | P42: ='実質公債費比率（分子）の構造'!O$52 -> 273
A43: 一時借入金の利子 | B43: ='実質公債費比率（分子）の構造'!K$51 -> 0 | E43: ='実質公債費比率（分子）の構造'!L$51 -> - | H43: ='実質公債費比率（分子）の構造'!M$51 -> 0 | K43: ='実質公債費比率（分子）の構造'!N$51 -> 0 | N43: ='実質公債費比率（分子）の構造'!O$51 -> 0
A44: 債務負担行為に基づく支出額 | B44: ='実質公債費比率（分子）の構造'!K$50 -> - | E44: ='実質公債費比率（分子）の構造'!L$50 -> - | H44: ='実質公債費比率（分子）の構造'!M$50 -> - | K44: ='実質公債費比率（分子）の構造'!N$50 -> - | N44: ='実質公債費比率（分子）の構造'!O$50 -> -
A45: 組合等が起こした地方債の元利償還金に対する負担金等 | B45: ='実質公債費比率（分子）の構造'!K$49 -> 35 | E45: ='実質公債費比率（分子）の構造'!L$49 -> 35 | H45: ='実質公債費比率（分子）の構造'!M$49 -> 33 | K45: ='実質公債費比率（分子）の構造'!N$49 -> 33 | N45: ='実質公債費比率（分子）の構造'!O$49 -> 32
A46: 公営企業債の元利償還金に対する繰入金 | B46: ='実質公債費比率（分子）の構造'!K$48 -> 7 | E46: ='実質公債費比率（分子）の構造'!L$48 -> 12 | H46: ='実質公債費比率（分子）の構造'!M$48 -> 10 | K46: ='実質公債費比率（分子）の構造'!N$48 -> 14 | N46: ='実質公債費比率（分子）の構造'!O$48 -> 23
A47: 満期一括償還地方債に係る年度割相当額 | B47: ='実質公債費比率（分子）の構造'!K$47 -> - | E47: ='実質公債費比率（分子）の構造'!L$47 -> - | H47: ='実質公債費比率（分子）の構造'!M$47 -> - | K47: ='実質公債費比率（分子）の構造'!N$47 -> - | N47: ='実質公債費比率（分子）の構造'!O$47 -> -
...

Sheet Sheet1
